BEGIN:VCALENDAR
VERSION:2.0
METHOD:PUBLISH
PRODID:-//Missouri State University/Calendar of Events//EN
CALSCALE:GREGORIAN
X-WR-TIMEZONE:America/Chicago
BEGIN:VTIMEZONE
TZID:America/Chicago
BEGIN:DAYLIGHT
TZOFFSETFROM:-0600
TZOFFSETTO:-0500
DTSTART:20070311T020000
RRULE:FREQ=YEARLY;BYMONTH=3;BYDAY=2SU
TZNAME:CDT
END:DAYLIGHT
BEGIN:STANDARD
TZOFFSETFROM:-0500
TZOFFSETTO:-0600
DTSTART:20071104T020000
RRULE:FREQ=YEARLY;BYMONTH=11;BYDAY=1SU
TZNAME:CST
END:STANDARD
END:VTIMEZONE
BEGIN:VEVENT
UID:a7258ebe-500e-42fd-ac47-b65172061893.221724@calendar.missouristate.edu
CREATED:20220830T171027Z
LAST-MODIFIED:20220830T171027Z
LOCATION:Plaster Free Enterprise Center\, Robert W.
SUMMARY:Coaching &amp; Mentoring to Accelerate Potential
DESCRIPTION:Coaching can close the gap between acceptable and superior per
 formance. Attend this seminar to learn the skills that professional coach
 es use to cultivate responsibility\, innovation\, energy and commitment. 
 This seminar will equip you with coaching and mentoring methods that will
  transform a team or individual to new heights of improved performance. I
 n addition\, you also will learn how to deal with confronting problem emp
 loyees.
X-ALT-DESC;FMTTYPE=text/html:&lt;html&gt;&lt;head&gt;&lt;title&gt;&lt;/title&gt;&lt;/head&gt;&lt;body&gt;&lt;p&gt;Co
 aching can close the gap between acceptable and superior performance. Att
 end this seminar to learn the skills that professional coaches use to cul
 tivate responsibility\, innovation\, energy and commitment. This seminar 
 will equip you with coaching and mentoring methods that will transform a 
 team or individual to new heights of improved performance. In addition\, 
 you also will learn how to deal with confronting problem employees.&lt;/p&gt;&lt;/
 body&gt;&lt;/html&gt;
DTSTART;TZID=America/Chicago:20221101T090000
DTEND;TZID=America/Chicago:20221101T160000
SEQUENCE:0
URL:https://sbdc.missouristate.edu/training/
CATEGORIES:Public
END:VEVENT
END:VCALENDAR