BEGIN:VCALENDAR
VERSION:2.0
METHOD:PUBLISH
PRODID:-//Missouri State University/Calendar of Events//EN
CALSCALE:GREGORIAN
X-WR-TIMEZONE:America/Chicago
BEGIN:VTIMEZONE
TZID:America/Chicago
BEGIN:DAYLIGHT
TZOFFSETFROM:-0600
TZOFFSETTO:-0500
DTSTART:20070311T020000
RRULE:FREQ=YEARLY;BYMONTH=3;BYDAY=2SU
TZNAME:CDT
END:DAYLIGHT
BEGIN:STANDARD
TZOFFSETFROM:-0500
TZOFFSETTO:-0600
DTSTART:20071104T020000
RRULE:FREQ=YEARLY;BYMONTH=11;BYDAY=1SU
TZNAME:CST
END:STANDARD
END:VTIMEZONE
BEGIN:VEVENT
UID:075c1411-b838-4f03-b740-c19f63f0b9dc.221763@calendar.missouristate.edu
CREATED:20220817T130343Z
LAST-MODIFIED:20220817T130343Z
LOCATION:Plaster Student Union\, Robert W. Food Court
SUMMARY:Ekklesia "Stress Busters" Game Night/Karaoke/Open Mic
DESCRIPTION:Don't forget to de-stress regularly! Join Ekklesia on the four
 th Monday of each month for a laid back time of playing games\, singing k
 araoke\, reciting or listening to poetry\, or just hanging out and watchi
 ng others perform. Sometimes\, there are drag queens and kings\, too!
X-ALT-DESC;FMTTYPE=text/html:&lt;html&gt;&lt;head&gt;&lt;title&gt;&lt;/title&gt;&lt;/head&gt;&lt;body&gt;&lt;p&gt;Do
 n't forget to de-stress regularly! Join Ekklesia on the fourth Monday of 
 each month for a laid back time of playing games\, singing karaoke\, reci
 ting or listening to poetry\, or just hanging out and watching others per
 form. Sometimes\, there are drag queens and kings\, too!&lt;/p&gt;\n&lt;p&gt;&lt;/p&gt;&lt;/bo
 dy&gt;&lt;/html&gt;
DTSTART;TZID=America/Chicago:20220822T200000
DTEND;TZID=America/Chicago:20220822T220000
SEQUENCE:0
URL:http://www.ekklesiamsu.org
CATEGORIES:Current Students,Faculty,Staff
END:VEVENT
END:VCALENDAR