BEGIN:VCALENDAR
VERSION:2.0
METHOD:PUBLISH
PRODID:-//Missouri State University/Calendar of Events//EN
CALSCALE:GREGORIAN
X-WR-TIMEZONE:America/Chicago
BEGIN:VTIMEZONE
TZID:America/Chicago
BEGIN:DAYLIGHT
TZOFFSETFROM:-0600
TZOFFSETTO:-0500
DTSTART:20070311T020000
RRULE:FREQ=YEARLY;BYMONTH=3;BYDAY=2SU
TZNAME:CDT
END:DAYLIGHT
BEGIN:STANDARD
TZOFFSETFROM:-0500
TZOFFSETTO:-0600
DTSTART:20071104T020000
RRULE:FREQ=YEARLY;BYMONTH=11;BYDAY=1SU
TZNAME:CST
END:STANDARD
END:VTIMEZONE
BEGIN:VEVENT
UID:6d3a50ea-8ea4-46f8-9edb-b666412d7623.221768@calendar.missouristate.edu
CREATED:20220817T130245Z
LAST-MODIFIED:20220817T130245Z
LOCATION:
SUMMARY:Ekklesia Pizza and Planners 
DESCRIPTION:Start your semester planning for success! Join Ekklesia for ou
 r annual Pizza and Planners event\, where you can print all your syllabi 
 for free\, strategize with new friends\, get everything down in your own 
 planner/calendar\, or make one using our planner making supplies.\n\n\nWe
  can't wait to plan a great semester with you!
X-ALT-DESC;FMTTYPE=text/html:&lt;html&gt;&lt;head&gt;&lt;title&gt;&lt;/title&gt;&lt;/head&gt;&lt;body&gt;&lt;p&gt;St
 art your semester planning for success! Join Ekklesia for our annual Pizz
 a and Planners event\, where you can print all your syllabi for free\, st
 rategize with new friends\, get everything down in your own planner/calen
 dar\, or make one using our planner making supplies.&lt;/p&gt;\n&lt;p&gt;We can't wai
 t to plan a great semester with you!&lt;/p&gt;\n&lt;p&gt;&lt;/p&gt;&lt;/body&gt;&lt;/html&gt;
DTSTART;TZID=America/Chicago:20220819T120000
DTEND;TZID=America/Chicago:20220819T140000
SEQUENCE:1
URL:http://www.ekklesiamsu.org
CATEGORIES:Current Students,Faculty,Staff
END:VEVENT
END:VCALENDAR