BEGIN:VCALENDAR
VERSION:2.0
METHOD:PUBLISH
PRODID:-//Missouri State University/Calendar of Events//EN
CALSCALE:GREGORIAN
X-WR-TIMEZONE:America/Chicago
BEGIN:VTIMEZONE
TZID:America/Chicago
BEGIN:DAYLIGHT
TZOFFSETFROM:-0600
TZOFFSETTO:-0500
DTSTART:20070311T020000
RRULE:FREQ=YEARLY;BYMONTH=3;BYDAY=2SU
TZNAME:CDT
END:DAYLIGHT
BEGIN:STANDARD
TZOFFSETFROM:-0500
TZOFFSETTO:-0600
DTSTART:20071104T020000
RRULE:FREQ=YEARLY;BYMONTH=11;BYDAY=1SU
TZNAME:CST
END:STANDARD
END:VTIMEZONE
BEGIN:VEVENT
UID:0b9c5984-c707-42bf-81c4-963af4c0e65c.221777@calendar.missouristate.edu
CREATED:20220817T144548Z
LAST-MODIFIED:20220817T144548Z
LOCATION:Plaster Student Union\, Robert W. North Mall (PSU Theater in case
  of rain)
SUMMARY:SAC Welcome Week Concert
DESCRIPTION:Join us at this live music event with opener Surf Wax and head
 liner Del Water Gap! \n\n\nBring your own blanket.
X-ALT-DESC;FMTTYPE=text/html:&lt;html&gt;&lt;head&gt;&lt;title&gt;&lt;/title&gt;&lt;/head&gt;&lt;body&gt;&lt;p&gt;&lt;s
 pan&gt;Join us at this live music event with opener &lt;strong&gt;Surf Wax&lt;/strong
 &gt; and headliner &lt;strong&gt;Del Water Gap&lt;/strong&gt;! &lt;/span&gt;&lt;/p&gt;\n&lt;p&gt;&lt;span&gt;Bri
 ng your own blanket.&lt;/span&gt;&lt;/p&gt;&lt;/body&gt;&lt;/html&gt;
DTSTART;TZID=America/Chicago:20220826T190000
DTEND;TZID=America/Chicago:20220826T213000
SEQUENCE:0
URL:116320.jpg
CATEGORIES:Current Students
END:VEVENT
END:VCALENDAR