BEGIN:VCALENDAR
VERSION:2.0
METHOD:PUBLISH
PRODID:-//Missouri State University/Calendar of Events//EN
CALSCALE:GREGORIAN
X-WR-TIMEZONE:America/Chicago
BEGIN:VTIMEZONE
TZID:America/Chicago
BEGIN:DAYLIGHT
TZOFFSETFROM:-0600
TZOFFSETTO:-0500
DTSTART:20070311T020000
RRULE:FREQ=YEARLY;BYMONTH=3;BYDAY=2SU
TZNAME:CDT
END:DAYLIGHT
BEGIN:STANDARD
TZOFFSETFROM:-0500
TZOFFSETTO:-0600
DTSTART:20071104T020000
RRULE:FREQ=YEARLY;BYMONTH=11;BYDAY=1SU
TZNAME:CST
END:STANDARD
END:VTIMEZONE
BEGIN:VEVENT
UID:20b86dac-930d-450f-99ee-8be1e09d6e71.221781@calendar.missouristate.edu
CREATED:20220817T155925Z
LAST-MODIFIED:20220817T155925Z
LOCATION:Plaster Student Union\, Robert W. North Patio
SUMMARY:Chill Out with the Bears
DESCRIPTION:We want to welcome you back to campus with ice cream! 
X-ALT-DESC;FMTTYPE=text/html:&lt;html&gt;&lt;head&gt;&lt;title&gt;&lt;/title&gt;&lt;/head&gt;&lt;body&gt;&lt;p&gt;We
  want to welcome you back to campus with ice cream!&amp;nbsp\;&lt;/p&gt;&lt;/body&gt;&lt;/ht
 ml&gt;
DTSTART;TZID=America/Chicago:20220831T120000
DTEND;TZID=America/Chicago:20220831T140000
SEQUENCE:0
URL:116324.jpg
CATEGORIES:Current Students
END:VEVENT
END:VCALENDAR