BEGIN:VCALENDAR
VERSION:2.0
METHOD:PUBLISH
PRODID:-//Missouri State University/Calendar of Events//EN
CALSCALE:GREGORIAN
X-WR-TIMEZONE:America/Chicago
BEGIN:VTIMEZONE
TZID:America/Chicago
BEGIN:DAYLIGHT
TZOFFSETFROM:-0600
TZOFFSETTO:-0500
DTSTART:20070311T020000
RRULE:FREQ=YEARLY;BYMONTH=3;BYDAY=2SU
TZNAME:CDT
END:DAYLIGHT
BEGIN:STANDARD
TZOFFSETFROM:-0500
TZOFFSETTO:-0600
DTSTART:20071104T020000
RRULE:FREQ=YEARLY;BYMONTH=11;BYDAY=1SU
TZNAME:CST
END:STANDARD
END:VTIMEZONE
BEGIN:VEVENT
UID:c66fc1a2-01f8-4db7-8151-726ffc78c1e6.221784@calendar.missouristate.edu
CREATED:20220817T163211Z
LAST-MODIFIED:20220817T163211Z
LOCATION:Plaster Student Union\, Robert W. PSU 317
SUMMARY:Escape Room
DESCRIPTION:Can you make it out in time?\n\n\nJoin SAC in groups of 12 to 
 participate in our space and 80's themed escape rooms! Free ice cream bar
 ! Sign up required upon arrival. First come\, first served. 
X-ALT-DESC;FMTTYPE=text/html:&lt;html&gt;&lt;head&gt;&lt;title&gt;&lt;/title&gt;&lt;/head&gt;&lt;body&gt;&lt;p&gt;Ca
 n you make it out in time?&lt;/p&gt;\n&lt;p&gt;Join SAC in groups of 12 to participat
 e in our space and 80's themed escape rooms! Free ice cream bar! Sign up 
 required upon arrival. First come\, first served.&amp;nbsp\;&lt;/p&gt;&lt;/body&gt;&lt;/html&gt;
DTSTART;TZID=America/Chicago:20220908T190000
DTEND;TZID=America/Chicago:20220908T230000
SEQUENCE:0
URL:116327.jpg
CATEGORIES:Current Students
END:VEVENT
END:VCALENDAR