BEGIN:VCALENDAR
VERSION:2.0
METHOD:PUBLISH
PRODID:-//Missouri State University/Calendar of Events//EN
CALSCALE:GREGORIAN
X-WR-TIMEZONE:America/Chicago
BEGIN:VTIMEZONE
TZID:America/Chicago
BEGIN:DAYLIGHT
TZOFFSETFROM:-0600
TZOFFSETTO:-0500
DTSTART:20070311T020000
RRULE:FREQ=YEARLY;BYMONTH=3;BYDAY=2SU
TZNAME:CDT
END:DAYLIGHT
BEGIN:STANDARD
TZOFFSETFROM:-0500
TZOFFSETTO:-0600
DTSTART:20071104T020000
RRULE:FREQ=YEARLY;BYMONTH=11;BYDAY=1SU
TZNAME:CST
END:STANDARD
END:VTIMEZONE
BEGIN:VEVENT
UID:7be8c63e-af5b-4166-9aa1-053674768559.221917@calendar.missouristate.edu
CREATED:20220819T164517Z
LAST-MODIFIED:20220819T164517Z
LOCATION:To Be Determined
SUMMARY:Annual Ag Celebration with Alumni and Friends
DESCRIPTION:Spend the evening with alumni and friends to raise financial s
 upport for the students of the Darr College of Agriculture.
X-ALT-DESC;FMTTYPE=text/html:&lt;html&gt;&lt;head&gt;&lt;title&gt;&lt;/title&gt;&lt;/head&gt;&lt;body&gt;&lt;p&gt;Sp
 end the evening with alumni and friends to raise financial support for th
 e students of the Darr College of Agriculture.&lt;/p&gt;&lt;/body&gt;&lt;/html&gt;
DTSTART;TZID=America/Chicago:20221022T180000
DTEND;TZID=America/Chicago:20221022T200000
SEQUENCE:0
URL:https://missouristate.imodules.com?sid=1691&amp;gid=2&amp;pgid=2891&amp;cid=5119&amp;e
 cid=5119&amp;ciid=17130&amp;crid=0
CATEGORIES:Public,Alumni,Faculty,Parents And Family,Staff,Visitors
END:VEVENT
END:VCALENDAR