BEGIN:VCALENDAR
VERSION:2.0
METHOD:PUBLISH
PRODID:-//Missouri State University/Calendar of Events//EN
CALSCALE:GREGORIAN
X-WR-TIMEZONE:America/Chicago
BEGIN:VTIMEZONE
TZID:America/Chicago
BEGIN:DAYLIGHT
TZOFFSETFROM:-0600
TZOFFSETTO:-0500
DTSTART:20070311T020000
RRULE:FREQ=YEARLY;BYMONTH=3;BYDAY=2SU
TZNAME:CDT
END:DAYLIGHT
BEGIN:STANDARD
TZOFFSETFROM:-0500
TZOFFSETTO:-0600
DTSTART:20071104T020000
RRULE:FREQ=YEARLY;BYMONTH=11;BYDAY=1SU
TZNAME:CST
END:STANDARD
END:VTIMEZONE
BEGIN:VEVENT
UID:88e35c05-8b90-4235-9c0a-f66216a24ae3.221846@calendar.missouristate.edu
CREATED:20220819T182511Z
LAST-MODIFIED:20220819T182511Z
LOCATION:Plaster Student Union\, Robert W. PSU 313
SUMMARY:Faculty Senate January Session
DESCRIPTION:Come and join in the Faculty Senate January session.
X-ALT-DESC;FMTTYPE=text/html:&lt;html&gt;&lt;head&gt;&lt;title&gt;&lt;/title&gt;&lt;/head&gt;&lt;body&gt;&lt;p&gt;&lt;s
 pan&gt;Come and join in the&amp;nbsp\;Faculty Senate&amp;nbsp\;January session.&lt;/spa
 n&gt;&lt;/p&gt;&lt;/body&gt;&lt;/html&gt;
DTSTART;TZID=America/Chicago:20230126T153000
DTEND;TZID=America/Chicago:20230126T170000
SEQUENCE:0
URL:http://missouristate.edu/facultysenate
CATEGORIES:Faculty,Staff
END:VEVENT
END:VCALENDAR