BEGIN:VCALENDAR
VERSION:2.0
METHOD:PUBLISH
PRODID:-//Missouri State University/Calendar of Events//EN
CALSCALE:GREGORIAN
X-WR-TIMEZONE:America/Chicago
BEGIN:VTIMEZONE
TZID:America/Chicago
BEGIN:DAYLIGHT
TZOFFSETFROM:-0600
TZOFFSETTO:-0500
DTSTART:20070311T020000
RRULE:FREQ=YEARLY;BYMONTH=3;BYDAY=2SU
TZNAME:CDT
END:DAYLIGHT
BEGIN:STANDARD
TZOFFSETFROM:-0500
TZOFFSETTO:-0600
DTSTART:20071104T020000
RRULE:FREQ=YEARLY;BYMONTH=11;BYDAY=1SU
TZNAME:CST
END:STANDARD
END:VTIMEZONE
BEGIN:VEVENT
UID:3ee61c94-8f2e-4a13-9640-c166fc4d8af8.221853@calendar.missouristate.edu
CREATED:20220822T154814Z
LAST-MODIFIED:20220822T154814Z
LOCATION:Plaster Student Union\, Robert W. North Mall
SUMMARY:Fresh Check Day 2022
DESCRIPTION:Fresh Check Day is an uplifting mental health promotion and su
 icide prevention event for colleges that includes interactive expo booths
 \, peer-to-peer messaging\, support of multiple campus departments and gr
 oups\, free food\, entertainment\, and exciting prizes and giveaways. Fre
 sh Check Day aims to create an approachable and hopeful atmosphere where 
 students are encouraged to engage in dialogue about mental health and hel
 ps to build a bridge between students and the mental health resources ava
 ilable on campus\, in the community\, and nationally.Rain location: PSU B
 allroom East
X-ALT-DESC;FMTTYPE=text/html:&lt;html&gt;&lt;head&gt;&lt;title&gt;&lt;/title&gt;&lt;/head&gt;&lt;body&gt;&lt;p&gt;&lt;s
 pan&gt;&lt;span&gt;Fresh Check Day is an uplifting mental health promotion and sui
 cide prevention event for colleges that includes interactive expo booths\
 , peer-to-peer messaging\, support of multiple campus departments and gro
 ups\, free food\, entertainment\, and exciting prizes and giveaways. Fres
 h Check Day aims to create an approachable and hopeful atmosphere where s
 tudents are encouraged to engage in dialogue about mental health and help
 s to build a bridge between students and the mental health resources avai
 lable on campus\, in the community\, and nationally.&lt;br&gt;&lt;br&gt;Rain location
 : PSU Ballroom East&lt;/span&gt;&lt;/span&gt;&lt;/p&gt;&lt;/body&gt;&lt;/html&gt;
DTSTART;TZID=America/Chicago:20220830T110000
DTEND;TZID=America/Chicago:20220830T140000
SEQUENCE:0
URL:
CATEGORIES:Current Students
END:VEVENT
END:VCALENDAR