BEGIN:VCALENDAR
VERSION:2.0
METHOD:PUBLISH
PRODID:-//Missouri State University/Calendar of Events//EN
CALSCALE:GREGORIAN
X-WR-TIMEZONE:America/Chicago
BEGIN:VTIMEZONE
TZID:America/Chicago
BEGIN:DAYLIGHT
TZOFFSETFROM:-0600
TZOFFSETTO:-0500
DTSTART:20070311T020000
RRULE:FREQ=YEARLY;BYMONTH=3;BYDAY=2SU
TZNAME:CDT
END:DAYLIGHT
BEGIN:STANDARD
TZOFFSETFROM:-0500
TZOFFSETTO:-0600
DTSTART:20071104T020000
RRULE:FREQ=YEARLY;BYMONTH=11;BYDAY=1SU
TZNAME:CST
END:STANDARD
END:VTIMEZONE
BEGIN:VEVENT
UID:31727b1c-97f7-4548-b51b-caad4ea15882.221870@calendar.missouristate.edu
CREATED:20220823T182548Z
LAST-MODIFIED:20220823T182548Z
LOCATION:Meyer Library\, Duane G. 120
SUMMARY:Showcase Friday: General Education Assessment at Missouri State
DESCRIPTION:This session will present CGEIP updates for the 2022-23 academ
 ic year and methods of review and assessment of Missouri State’s general 
 education courses that align with the CORE 42 framework for general educa
 tion. The goal of CORE 42 is to facilitate the seamless transfer of acade
 mic credits (DHEWD\, 2022). The Council for General Education and Interdi
 sciplinary Programs (CGEIP) has worked diligently to satisfy these state 
 requirements while keeping our unique identity in Public Affairs through 
 general education.  General education course coordinators are also encour
 aged to attend for updates on the biennial reporting process and timeline
 . Your feedback is vital for the continued assessment and steering of gen
 eral education at Missouri State. Please join Joe Williams\, CGEIP Chair 
 for this important and informative session.
X-ALT-DESC;FMTTYPE=text/html:&lt;html&gt;&lt;head&gt;&lt;title&gt;&lt;/title&gt;&lt;/head&gt;&lt;body&gt;&lt;p&gt;Th
 is session will present CGEIP updates for the 2022-23 academic year and m
 ethods of review and assessment of Missouri State’s general education cou
 rses that align with the CORE 42 framework for general education. The goa
 l of CORE 42 is to facilitate the seamless transfer of academic credits (
 DHEWD\, 2022). The Council for General Education and Interdisciplinary Pr
 ograms (CGEIP) has worked diligently to satisfy these state requirements 
 while keeping our unique identity in Public Affairs through general educa
 tion. &amp;nbsp\;General education course coordinators are also encouraged to
  attend for updates on the biennial reporting process and timeline. Your 
 feedback is vital for the continued assessment and steering of general ed
 ucation at Missouri State. Please join Joe Williams\, CGEIP Chair for thi
 s important and informative session.&lt;/p&gt;\n&lt;p&gt;&lt;/p&gt;&lt;/body&gt;&lt;/html&gt;
DTSTART;TZID=America/Chicago:20220916T110000
DTEND;TZID=America/Chicago:20220916T115000
SEQUENCE:0
URL:http://www.missouristate.edu/fctl
CATEGORIES:Faculty
END:VEVENT
END:VCALENDAR