BEGIN:VCALENDAR
VERSION:2.0
METHOD:PUBLISH
PRODID:-//Missouri State University/Calendar of Events//EN
CALSCALE:GREGORIAN
X-WR-TIMEZONE:America/Chicago
BEGIN:VTIMEZONE
TZID:America/Chicago
BEGIN:DAYLIGHT
TZOFFSETFROM:-0600
TZOFFSETTO:-0500
DTSTART:20070311T020000
RRULE:FREQ=YEARLY;BYMONTH=3;BYDAY=2SU
TZNAME:CDT
END:DAYLIGHT
BEGIN:STANDARD
TZOFFSETFROM:-0500
TZOFFSETTO:-0600
DTSTART:20071104T020000
RRULE:FREQ=YEARLY;BYMONTH=11;BYDAY=1SU
TZNAME:CST
END:STANDARD
END:VTIMEZONE
BEGIN:VEVENT
UID:0ab923f9-f5f4-4a7f-bac2-93d8c7439a3f.221878@calendar.missouristate.edu
CREATED:20220826T143624Z
LAST-MODIFIED:20220826T143624Z
LOCATION:Plaster Student Union\, Robert W. Atrium (Across Bear Necessities)
SUMMARY:Org Fair
DESCRIPTION:Come talk to some nonprofit organizations and learn how you ca
 n volunteer in Springfield.\n\n\nFree food and tote bags! 
X-ALT-DESC;FMTTYPE=text/html:&lt;html&gt;&lt;head&gt;&lt;title&gt;&lt;/title&gt;&lt;/head&gt;&lt;body&gt;&lt;p&gt;Co
 me talk to some nonprofit organizations and learn how you can volunteer i
 n Springfield.&lt;/p&gt;\n&lt;p&gt;Free food and tote bags!&amp;nbsp\;&lt;/p&gt;&lt;/body&gt;&lt;/html&gt;
DTSTART;TZID=America/Chicago:20220913T110000
DTEND;TZID=America/Chicago:20220913T140000
SEQUENCE:0
URL:116391.jpg
CATEGORIES:Public,Current Students,Faculty,Staff
END:VEVENT
END:VCALENDAR