BEGIN:VCALENDAR
VERSION:2.0
METHOD:PUBLISH
PRODID:-//Missouri State University/Calendar of Events//EN
CALSCALE:GREGORIAN
X-WR-TIMEZONE:America/Chicago
BEGIN:VTIMEZONE
TZID:America/Chicago
BEGIN:DAYLIGHT
TZOFFSETFROM:-0600
TZOFFSETTO:-0500
DTSTART:20070311T020000
RRULE:FREQ=YEARLY;BYMONTH=3;BYDAY=2SU
TZNAME:CDT
END:DAYLIGHT
BEGIN:STANDARD
TZOFFSETFROM:-0500
TZOFFSETTO:-0600
DTSTART:20071104T020000
RRULE:FREQ=YEARLY;BYMONTH=11;BYDAY=1SU
TZNAME:CST
END:STANDARD
END:VTIMEZONE
BEGIN:VEVENT
UID:be6b7ac0-fd91-415f-bb7a-c89eaacb74cc.221880@calendar.missouristate.edu
CREATED:20220928T033846Z
LAST-MODIFIED:20220928T033846Z
LOCATION:Morris Center\, Jim D.
SUMMARY:Tour of the Globe
DESCRIPTION:Enjoy the Festival of Festivals at the largest celebration of 
 culture of the year. Meet Missouri State international students from arou
 nd the world as they share art\, music\, dance\, food and more with the M
 issouri State and Springfield communities. 
X-ALT-DESC;FMTTYPE=text/html:&lt;html&gt;&lt;head&gt;&lt;title&gt;&lt;/title&gt;&lt;/head&gt;&lt;body&gt;&lt;p&gt;&lt;s
 pan&gt;Enjoy the &lt;strong&gt;Festival of Festivals&lt;/strong&gt; at the largest celeb
 ration of culture of the year. Meet Missouri State international students
  from around the world as they share art\, music\, dance\, food and more 
 with the Missouri State and Springfield communities.&amp;nbsp\;&lt;/span&gt;&lt;/p&gt;&lt;/b
 ody&gt;&lt;/html&gt;
DTSTART;TZID=America/Chicago:20221104T173000
DTEND;TZID=America/Chicago:20221104T203000
SEQUENCE:0
URL:116393.jpg
CATEGORIES:Public,Alumni,Current Students,Faculty,Future Students,Staff
END:VEVENT
END:VCALENDAR