BEGIN:VCALENDAR
VERSION:2.0
METHOD:PUBLISH
PRODID:-//Missouri State University/Calendar of Events//EN
CALSCALE:GREGORIAN
X-WR-TIMEZONE:America/Chicago
BEGIN:VTIMEZONE
TZID:America/Chicago
BEGIN:DAYLIGHT
TZOFFSETFROM:-0600
TZOFFSETTO:-0500
DTSTART:20070311T020000
RRULE:FREQ=YEARLY;BYMONTH=3;BYDAY=2SU
TZNAME:CDT
END:DAYLIGHT
BEGIN:STANDARD
TZOFFSETFROM:-0500
TZOFFSETTO:-0600
DTSTART:20071104T020000
RRULE:FREQ=YEARLY;BYMONTH=11;BYDAY=1SU
TZNAME:CST
END:STANDARD
END:VTIMEZONE
BEGIN:VEVENT
UID:c4a62e1f-03a6-4970-9829-6d5fa0644c66.221881@calendar.missouristate.edu
CREATED:20220824T210255Z
LAST-MODIFIED:20220824T210255Z
LOCATION:Plaster Student Union\, Robert W. Ballroom (Room 300)
SUMMARY:Majors Fair 2022
DESCRIPTION:Join us for Majors Fair 2022 - a gathering of academic departm
 ents from across campus. Learn about the undergraduate majors\, minors an
 d certificates offered and how they can help you reach your goals.\n\n\nA
 lready have a major declared? Great! Come meet representatives from your 
 department. You can also learn about minors and certificates that can com
 plement your major.
X-ALT-DESC;FMTTYPE=text/html:&lt;html&gt;&lt;head&gt;&lt;title&gt;&lt;/title&gt;&lt;/head&gt;&lt;body&gt;&lt;p&gt;Jo
 in us for Majors Fair 2022 - a gathering of academic departments from acr
 oss campus. Learn about the undergraduate majors\, minors and certificate
 s offered and how they can help you reach your goals.&lt;/p&gt;\n&lt;p&gt;Already hav
 e a major declared? Great! Come meet representatives from your department
 . You can also learn about minors and certificates that can complement yo
 ur major.&lt;/p&gt;&lt;/body&gt;&lt;/html&gt;
DTSTART;TZID=America/Chicago:20220929T090000
DTEND;TZID=America/Chicago:20220929T150000
SEQUENCE:0
URL:https://www.missouristate.edu/Advising/majors-fair.htm
CATEGORIES:Current Students,Faculty,Future Students,Staff
END:VEVENT
END:VCALENDAR