BEGIN:VCALENDAR
VERSION:2.0
METHOD:PUBLISH
PRODID:-//Missouri State University/Calendar of Events//EN
CALSCALE:GREGORIAN
X-WR-TIMEZONE:America/Chicago
BEGIN:VTIMEZONE
TZID:America/Chicago
BEGIN:DAYLIGHT
TZOFFSETFROM:-0600
TZOFFSETTO:-0500
DTSTART:20070311T020000
RRULE:FREQ=YEARLY;BYMONTH=3;BYDAY=2SU
TZNAME:CDT
END:DAYLIGHT
BEGIN:STANDARD
TZOFFSETFROM:-0500
TZOFFSETTO:-0600
DTSTART:20071104T020000
RRULE:FREQ=YEARLY;BYMONTH=11;BYDAY=1SU
TZNAME:CST
END:STANDARD
END:VTIMEZONE
BEGIN:VEVENT
UID:7cc7c60e-5a6a-4c12-a015-4b2eb8d65b57.221885@calendar.missouristate.edu
CREATED:20230718T143859Z
LAST-MODIFIED:20230718T143859Z
LOCATION:Plaster Student Union\, Robert W. 400 Union Club
SUMMARY:Clif's Connection - Bear Connection
DESCRIPTION:Clif's Connection is a special quarterly welcome event persona
 lly hosted by university President Clif Smart and presented by Bear Conne
 ction.  Staff members hired during the previous quarter and their Bear Co
 nnection Ambassadors are encouraged to join President Smart and take adva
 ntage of this unique opportunity to network with university leadership an
 d fellow staff members.\n\n\nThis will be an in person event.
X-ALT-DESC;FMTTYPE=text/html:&lt;html&gt;&lt;head&gt;&lt;title&gt;&lt;/title&gt;&lt;/head&gt;&lt;body&gt;&lt;p&gt;Cl
 if's Connection is a special quarterly welcome event personally hosted by
  university President Clif Smart and presented by &lt;a href="https://www.mi
 ssouristate.edu/human/bearconnection/"&gt;Bear Connection&lt;/a&gt;.&amp;nbsp\; Staff 
 members hired during the previous quarter and their Bear Connection Ambas
 sadors are encouraged to join President Smart and take advantage of this 
 unique opportunity to network with university leadership and fellow staff
  members.&lt;/p&gt;\n&lt;p&gt;This will be an in person event.&lt;/p&gt;&lt;/body&gt;&lt;/html&gt;
DTSTART;TZID=America/Chicago:20230118T080000
DTEND;TZID=America/Chicago:20230118T083000
SEQUENCE:0
URL:116398.jpg
CATEGORIES:Staff
END:VEVENT
END:VCALENDAR