BEGIN:VCALENDAR
VERSION:2.0
METHOD:PUBLISH
PRODID:-//Missouri State University/Calendar of Events//EN
CALSCALE:GREGORIAN
X-WR-TIMEZONE:America/Chicago
BEGIN:VTIMEZONE
TZID:America/Chicago
BEGIN:DAYLIGHT
TZOFFSETFROM:-0600
TZOFFSETTO:-0500
DTSTART:20070311T020000
RRULE:FREQ=YEARLY;BYMONTH=3;BYDAY=2SU
TZNAME:CDT
END:DAYLIGHT
BEGIN:STANDARD
TZOFFSETFROM:-0500
TZOFFSETTO:-0600
DTSTART:20071104T020000
RRULE:FREQ=YEARLY;BYMONTH=11;BYDAY=1SU
TZNAME:CST
END:STANDARD
END:VTIMEZONE
BEGIN:VEVENT
UID:76404c6b-ab3b-47d9-a46e-ef7cb448158b.221889@calendar.missouristate.edu
CREATED:20221003T145901Z
LAST-MODIFIED:20221003T145901Z
LOCATION:Plaster Student Union\, Robert W. Cafeteria
SUMMARY:Karaoke with the Queen
DESCRIPTION:Enjoy a student-led karaoke where students can come perform so
 lo or duets. Hosted by local drag queens in collaboration with Student Ac
 tivities Council.
X-ALT-DESC;FMTTYPE=text/html:&lt;html&gt;&lt;head&gt;&lt;title&gt;&lt;/title&gt;&lt;/head&gt;&lt;body&gt;&lt;p&gt;En
 joy a student-led karaoke&amp;nbsp\;where students can come perform solo or d
 uets. Hosted by local drag queens in collaboration with Student Activitie
 s Council.&lt;/p&gt;&lt;/body&gt;&lt;/html&gt;
DTSTART;TZID=America/Chicago:20221004T180000
DTEND;TZID=America/Chicago:20221004T203000
SEQUENCE:1
URL:
CATEGORIES:Current Students
END:VEVENT
END:VCALENDAR