BEGIN:VCALENDAR
VERSION:2.0
METHOD:PUBLISH
PRODID:-//Missouri State University/Calendar of Events//EN
CALSCALE:GREGORIAN
X-WR-TIMEZONE:America/Chicago
BEGIN:VTIMEZONE
TZID:America/Chicago
BEGIN:DAYLIGHT
TZOFFSETFROM:-0600
TZOFFSETTO:-0500
DTSTART:20070311T020000
RRULE:FREQ=YEARLY;BYMONTH=3;BYDAY=2SU
TZNAME:CDT
END:DAYLIGHT
BEGIN:STANDARD
TZOFFSETFROM:-0500
TZOFFSETTO:-0600
DTSTART:20071104T020000
RRULE:FREQ=YEARLY;BYMONTH=11;BYDAY=1SU
TZNAME:CST
END:STANDARD
END:VTIMEZONE
BEGIN:VEVENT
UID:542cb3c7-1008-4589-b04f-5be14c107263.221897@calendar.missouristate.edu
CREATED:20220826T051510Z
LAST-MODIFIED:20220826T051510Z
LOCATION:Cape Girardeau\, MO.
SUMMARY:Missouri State University Women's Golf at Saluki Invitational
DESCRIPTION:Missouri State University Women's Golf visits Saluki Invitatio
 nal
X-ALT-DESC;FMTTYPE=text/html:&lt;html&gt;&lt;head&gt;&lt;title&gt;&lt;/title&gt;&lt;/head&gt;&lt;body&gt;Misso
 uri State University Women's Golf visits Saluki Invitational&lt;/body&gt;&lt;/html&gt;
DTSTART;TZID=America/Chicago:20221010T083000
DTEND;TZID=America/Chicago:20221010T000000
SEQUENCE:1
URL:http://missouristatebears.com/index.aspx?path=wgolf
CATEGORIES:Current Students,Future Students,Parents and Family,Alumni,
 Faculty,Staff,Community,Visitors,Athletics
END:VEVENT
END:VCALENDAR