BEGIN:VCALENDAR
VERSION:2.0
METHOD:PUBLISH
PRODID:-//Missouri State University/Calendar of Events//EN
CALSCALE:GREGORIAN
X-WR-TIMEZONE:America/Chicago
BEGIN:VTIMEZONE
TZID:America/Chicago
BEGIN:DAYLIGHT
TZOFFSETFROM:-0600
TZOFFSETTO:-0500
DTSTART:20070311T020000
RRULE:FREQ=YEARLY;BYMONTH=3;BYDAY=2SU
TZNAME:CDT
END:DAYLIGHT
BEGIN:STANDARD
TZOFFSETFROM:-0500
TZOFFSETTO:-0600
DTSTART:20071104T020000
RRULE:FREQ=YEARLY;BYMONTH=11;BYDAY=1SU
TZNAME:CST
END:STANDARD
END:VTIMEZONE
BEGIN:VEVENT
UID:fde4e747-ab3e-48cc-827c-c0b46f5a4ada.221899@calendar.missouristate.edu
CREATED:20220826T051512Z
LAST-MODIFIED:20220826T051512Z
LOCATION:Hollister\, Mo.
SUMMARY:Missouri State University Women's Golf vs Ozarks National Invitati
 onal - Par 72 | 6\,125 Yards
DESCRIPTION:Missouri State University Women's Golf plays Ozarks National I
 nvitational - Par 72 | 6\,125 Yards
X-ALT-DESC;FMTTYPE=text/html:&lt;html&gt;&lt;head&gt;&lt;title&gt;&lt;/title&gt;&lt;/head&gt;&lt;body&gt;Misso
 uri State University Women's Golf plays Ozarks National Invitational - Pa
 r 72 | 6\,125 Yards&lt;/body&gt;&lt;/html&gt;
DTSTART;TZID=America/Chicago:20221031T093000
DTEND;TZID=America/Chicago:20221031T000000
SEQUENCE:2
URL:http://missouristatebears.com/index.aspx?path=wgolf
CATEGORIES:Current Students,Future Students,Parents and Family,Alumni,
 Faculty,Staff,Community,Visitors,Athletics
END:VEVENT
END:VCALENDAR