BEGIN:VCALENDAR
VERSION:2.0
METHOD:PUBLISH
PRODID:-//Missouri State University/Calendar of Events//EN
CALSCALE:GREGORIAN
X-WR-TIMEZONE:America/Chicago
BEGIN:VTIMEZONE
TZID:America/Chicago
BEGIN:DAYLIGHT
TZOFFSETFROM:-0600
TZOFFSETTO:-0500
DTSTART:20070311T020000
RRULE:FREQ=YEARLY;BYMONTH=3;BYDAY=2SU
TZNAME:CDT
END:DAYLIGHT
BEGIN:STANDARD
TZOFFSETFROM:-0500
TZOFFSETTO:-0600
DTSTART:20071104T020000
RRULE:FREQ=YEARLY;BYMONTH=11;BYDAY=1SU
TZNAME:CST
END:STANDARD
END:VTIMEZONE
BEGIN:VEVENT
UID:f83643aa-ca6a-48ec-b447-a637961de445.221901@calendar.missouristate.edu
CREATED:20220826T051515Z
LAST-MODIFIED:20220826T051515Z
LOCATION:Goodyear\, Ariz.
SUMMARY:Missouri State University Men's Golf at Loyola Intercollegiate
DESCRIPTION:Missouri State University Men's Golf visits Loyola Intercolleg
 iate
X-ALT-DESC;FMTTYPE=text/html:&lt;html&gt;&lt;head&gt;&lt;title&gt;&lt;/title&gt;&lt;/head&gt;&lt;body&gt;Misso
 uri State University Men's Golf visits Loyola Intercollegiate&lt;/body&gt;&lt;/htm
 l&gt;
DTSTART;TZID=America/Chicago:20230226T090000
DTEND;TZID=America/Chicago:20230226T000000
SEQUENCE:1
URL:http://missouristatebears.com/index.aspx?path=mgolf
CATEGORIES:Current Students,Future Students,Parents and Family,Alumni,
 Faculty,Staff,Community,Visitors,Athletics
END:VEVENT
END:VCALENDAR