BEGIN:VCALENDAR
VERSION:2.0
METHOD:PUBLISH
PRODID:-//Missouri State University/Calendar of Events//EN
CALSCALE:GREGORIAN
X-WR-TIMEZONE:America/Chicago
BEGIN:VTIMEZONE
TZID:America/Chicago
BEGIN:DAYLIGHT
TZOFFSETFROM:-0600
TZOFFSETTO:-0500
DTSTART:20070311T020000
RRULE:FREQ=YEARLY;BYMONTH=3;BYDAY=2SU
TZNAME:CDT
END:DAYLIGHT
BEGIN:STANDARD
TZOFFSETFROM:-0500
TZOFFSETTO:-0600
DTSTART:20071104T020000
RRULE:FREQ=YEARLY;BYMONTH=11;BYDAY=1SU
TZNAME:CST
END:STANDARD
END:VTIMEZONE
BEGIN:VEVENT
UID:d9bd44cc-4b35-48ca-b906-1f387892ddb0.221903@calendar.missouristate.edu
CREATED:20220826T051516Z
LAST-MODIFIED:20220826T051516Z
LOCATION:Springfield
SUMMARY:Missouri State University Men's Golf vs Missouri State Intercolleg
 iate
DESCRIPTION:Missouri State University Men's Golf hosts Missouri State Inte
 rcollegiate
X-ALT-DESC;FMTTYPE=text/html:&lt;html&gt;&lt;head&gt;&lt;title&gt;&lt;/title&gt;&lt;/head&gt;&lt;body&gt;Misso
 uri State University Men's Golf hosts Missouri State Intercollegiate&lt;/bod
 y&gt;&lt;/html&gt;
DTSTART;TZID=America/Chicago:20230320T080000
DTEND;TZID=America/Chicago:20230320T000000
SEQUENCE:3
URL:http://missouristatebears.com/index.aspx?path=mgolf
CATEGORIES:Current Students,Future Students,Parents and Family,Alumni,
 Faculty,Staff,Community,Visitors,Athletics
END:VEVENT
END:VCALENDAR