BEGIN:VCALENDAR
VERSION:2.0
METHOD:PUBLISH
PRODID:-//Missouri State University/Calendar of Events//EN
CALSCALE:GREGORIAN
X-WR-TIMEZONE:America/Chicago
BEGIN:VTIMEZONE
TZID:America/Chicago
BEGIN:DAYLIGHT
TZOFFSETFROM:-0600
TZOFFSETTO:-0500
DTSTART:20070311T020000
RRULE:FREQ=YEARLY;BYMONTH=3;BYDAY=2SU
TZNAME:CDT
END:DAYLIGHT
BEGIN:STANDARD
TZOFFSETFROM:-0500
TZOFFSETTO:-0600
DTSTART:20071104T020000
RRULE:FREQ=YEARLY;BYMONTH=11;BYDAY=1SU
TZNAME:CST
END:STANDARD
END:VTIMEZONE
BEGIN:VEVENT
UID:48ea7cc1-6d09-4d23-976b-d45e6521e431.221907@calendar.missouristate.edu
CREATED:20220831T015401Z
LAST-MODIFIED:20220831T015401Z
LOCATION:Plaster Student Union\, Robert W. 124
SUMMARY:Esports Celebration
DESCRIPTION:The Plaster Student Union is proud to announce the reopening o
 f the Level 1 Games Center\, now with esports. The PSU will host an event
  to celebrate this outstanding addition to our campus. Attendees will be 
 able to see all the changes to the space\, learn about esports and the pr
 ograms that are being offered and learn about the future of esports at MS
 U.
X-ALT-DESC;FMTTYPE=text/html:&lt;html&gt;&lt;head&gt;&lt;title&gt;&lt;/title&gt;&lt;/head&gt;&lt;body&gt;&lt;p&gt;Th
 e Plaster Student Union is proud to announce the reopening of the Level 1
  Games Center\, now with esports. The PSU will host an event to celebrate
  this outstanding addition to our campus. Attendees will be able to see a
 ll the changes to the space\, learn about esports and the programs that a
 re being offered and learn about the future of esports at MSU.&lt;/p&gt;&lt;/body&gt;
 &lt;/html&gt;
DTSTART;TZID=America/Chicago:20220906T160000
DTEND;TZID=America/Chicago:20220906T170000
SEQUENCE:0
URL:116415.jpg
CATEGORIES:Public,Alumni,Current Students,Faculty,Staff
END:VEVENT
END:VCALENDAR