BEGIN:VCALENDAR
VERSION:2.0
METHOD:PUBLISH
PRODID:-//Missouri State University/Calendar of Events//EN
CALSCALE:GREGORIAN
X-WR-TIMEZONE:America/Chicago
BEGIN:VTIMEZONE
TZID:America/Chicago
BEGIN:DAYLIGHT
TZOFFSETFROM:-0600
TZOFFSETTO:-0500
DTSTART:20070311T020000
RRULE:FREQ=YEARLY;BYMONTH=3;BYDAY=2SU
TZNAME:CDT
END:DAYLIGHT
BEGIN:STANDARD
TZOFFSETFROM:-0500
TZOFFSETTO:-0600
DTSTART:20071104T020000
RRULE:FREQ=YEARLY;BYMONTH=11;BYDAY=1SU
TZNAME:CST
END:STANDARD
END:VTIMEZONE
BEGIN:VEVENT
UID:a917d50c-6cb9-4aa0-9794-5179f782b6ea.221908@calendar.missouristate.edu
CREATED:20220826T151116Z
LAST-MODIFIED:20220826T151116Z
LOCATION:Meyer Library\, Duane G. 204
SUMMARY:Fall 2022 Faculty Writing Retreats
DESCRIPTION:Faculty Writing Retreats will help you meet your writing goals
  for the year. Begin new articles\, revise and resubmit\, polish your boo
 k proposal\, complete your last edits\, and connect and collaborate with 
 other faculty scholars.\n\n\nRegister for any of the following dates. All
  sessions are in Meyer Library Room 204 from 8:30 am to 4:00 pm. Coffee a
 nd lunch will be provided. \n\n\nIn addition\, we invite you to consult t
 he resources in our Faculty Writing Group Sharepoint and discuss your pro
 cess\, share resources\, and learn from your colleagues on our Faculty Wr
 iters Yammer.\n\n\nPlease sign up through My Learning Connection.
X-ALT-DESC;FMTTYPE=text/html:&lt;html&gt;&lt;head&gt;&lt;title&gt;&lt;/title&gt;&lt;/head&gt;&lt;body&gt;&lt;p&gt;Fa
 culty Writing Retreats will help you meet your writing goals for the year
 . Begin new articles\, revise and resubmit\, polish your book proposal\, 
 complete your last edits\, and connect and collaborate with other faculty
  scholars.&lt;/p&gt;\n&lt;p&gt;Register for any of the following dates. All sessions 
 are in Meyer Library Room 204 from 8:30 am to 4:00 pm. Coffee and lunch w
 ill be provided.&amp;nbsp\;&lt;/p&gt;\n&lt;p&gt;In addition\, we invite you to consult th
 e resources in our Faculty Writing Group Sharepoint and discuss your proc
 ess\, share resources\, and learn from your colleagues on our Faculty Wri
 ters Yammer.&lt;/p&gt;\n&lt;p&gt;Please sign up through My Learning Connection.&lt;/p&gt;&lt;/
 body&gt;&lt;/html&gt;
DTSTART;TZID=America/Chicago:20220909T083000
DTEND;TZID=America/Chicago:20220909T160000
SEQUENCE:0
URL:http://www.missouristate.edu
CATEGORIES:Faculty
END:VEVENT
END:VCALENDAR