BEGIN:VCALENDAR
VERSION:2.0
METHOD:PUBLISH
PRODID:-//Missouri State University/Calendar of Events//EN
CALSCALE:GREGORIAN
X-WR-TIMEZONE:America/Chicago
BEGIN:VTIMEZONE
TZID:America/Chicago
BEGIN:DAYLIGHT
TZOFFSETFROM:-0600
TZOFFSETTO:-0500
DTSTART:20070311T020000
RRULE:FREQ=YEARLY;BYMONTH=3;BYDAY=2SU
TZNAME:CDT
END:DAYLIGHT
BEGIN:STANDARD
TZOFFSETFROM:-0500
TZOFFSETTO:-0600
DTSTART:20071104T020000
RRULE:FREQ=YEARLY;BYMONTH=11;BYDAY=1SU
TZNAME:CST
END:STANDARD
END:VTIMEZONE
BEGIN:VEVENT
UID:c25a65d8-c670-4a2e-8f9d-8a2c67161370.221919@calendar.missouristate.edu
CREATED:20220829T175904Z
LAST-MODIFIED:20220829T175904Z
LOCATION:Roy Blunt Hall 003
SUMMARY:Biology Seminar: Genomics of Plant Adaptation to New and Changing 
 Environments
DESCRIPTION:Biology Seminar: Genomics of plant adaptation to new and chang
 ing environments.
X-ALT-DESC;FMTTYPE=text/html:&lt;html&gt;&lt;head&gt;&lt;title&gt;&lt;/title&gt;&lt;/head&gt;&lt;body&gt;&lt;p&gt;Bi
 ology Seminar: Genomics of plant adaptation to new and changing environme
 nts.&lt;/p&gt;&lt;/body&gt;&lt;/html&gt;
DTSTART;TZID=America/Chicago:20221021T160000
DTEND;TZID=America/Chicago:20221021T170000
SEQUENCE:0
URL:https://biology.missouristate.edu/
CATEGORIES:Public,Alumni,Current Students,Faculty,Future Students,Staff
END:VEVENT
END:VCALENDAR