BEGIN:VCALENDAR
VERSION:2.0
METHOD:PUBLISH
PRODID:-//Missouri State University/Calendar of Events//EN
CALSCALE:GREGORIAN
X-WR-TIMEZONE:America/Chicago
BEGIN:VTIMEZONE
TZID:America/Chicago
BEGIN:DAYLIGHT
TZOFFSETFROM:-0600
TZOFFSETTO:-0500
DTSTART:20070311T020000
RRULE:FREQ=YEARLY;BYMONTH=3;BYDAY=2SU
TZNAME:CDT
END:DAYLIGHT
BEGIN:STANDARD
TZOFFSETFROM:-0500
TZOFFSETTO:-0600
DTSTART:20071104T020000
RRULE:FREQ=YEARLY;BYMONTH=11;BYDAY=1SU
TZNAME:CST
END:STANDARD
END:VTIMEZONE
BEGIN:VEVENT
UID:f0101cfd-563e-462e-b723-d5fdd7753940.221920@calendar.missouristate.edu
CREATED:20220829T175829Z
LAST-MODIFIED:20220829T175829Z
LOCATION:Roy Blunt Hall 003
SUMMARY:Biology Seminar: The Best Laid Plans of Mares and Men
DESCRIPTION:Some potential pitfalls of contraceptive management.  \n\n\nSp
 eaker: Dr. Cassandra Nunez.  
X-ALT-DESC;FMTTYPE=text/html:&lt;html&gt;&lt;head&gt;&lt;title&gt;&lt;/title&gt;&lt;/head&gt;&lt;body&gt;&lt;p&gt;So
 me potential pitfalls of contraceptive management.&amp;nbsp\;&amp;nbsp\;&lt;/p&gt;\n&lt;p&gt;
 Speaker: Dr. Cassandra Nunez.&amp;nbsp\;&amp;nbsp\;&lt;/p&gt;&lt;/body&gt;&lt;/html&gt;
DTSTART;TZID=America/Chicago:20221111T160000
DTEND;TZID=America/Chicago:20221111T170000
SEQUENCE:0
URL:https://biology.missouristate.edu/
CATEGORIES:Public,Alumni,Current Students,Faculty,Future Students,Staff
END:VEVENT
END:VCALENDAR