BEGIN:VCALENDAR
VERSION:2.0
METHOD:PUBLISH
PRODID:-//Missouri State University/Calendar of Events//EN
CALSCALE:GREGORIAN
X-WR-TIMEZONE:America/Chicago
BEGIN:VTIMEZONE
TZID:America/Chicago
BEGIN:DAYLIGHT
TZOFFSETFROM:-0600
TZOFFSETTO:-0500
DTSTART:20070311T020000
RRULE:FREQ=YEARLY;BYMONTH=3;BYDAY=2SU
TZNAME:CDT
END:DAYLIGHT
BEGIN:STANDARD
TZOFFSETFROM:-0500
TZOFFSETTO:-0600
DTSTART:20071104T020000
RRULE:FREQ=YEARLY;BYMONTH=11;BYDAY=1SU
TZNAME:CST
END:STANDARD
END:VTIMEZONE
BEGIN:VEVENT
UID:48d5fd1a-068f-4dcf-830b-bf9ea3f2b488.221921@calendar.missouristate.edu
CREATED:20220829T184109Z
LAST-MODIFIED:20220829T184109Z
LOCATION:Plaster Student Union\, Robert W. Theatre
SUMMARY:LGBTQ+ History Month Speaker
DESCRIPTION:A guest speaker for LGBTQ+ history month. In collaboration wit
 h Student Activities Council (SAC).
X-ALT-DESC;FMTTYPE=text/html:&lt;html&gt;&lt;head&gt;&lt;title&gt;&lt;/title&gt;&lt;/head&gt;&lt;body&gt;&lt;p&gt;A 
 guest speaker for LGBTQ+ history month. In collaboration with Student Act
 ivities Council (SAC).&lt;/p&gt;&lt;/body&gt;&lt;/html&gt;
DTSTART;TZID=America/Chicago:20221018T190000
DTEND;TZID=America/Chicago:20221018T200000
SEQUENCE:0
URL:https://calendar.missouristate.edu/viewevent.aspx?eventid=116421&amp;occur
 renceid=221921
CATEGORIES:Current Students
END:VEVENT
END:VCALENDAR