BEGIN:VCALENDAR
VERSION:2.0
METHOD:PUBLISH
PRODID:-//Missouri State University/Calendar of Events//EN
CALSCALE:GREGORIAN
X-WR-TIMEZONE:America/Chicago
BEGIN:VTIMEZONE
TZID:America/Chicago
BEGIN:DAYLIGHT
TZOFFSETFROM:-0600
TZOFFSETTO:-0500
DTSTART:20070311T020000
RRULE:FREQ=YEARLY;BYMONTH=3;BYDAY=2SU
TZNAME:CDT
END:DAYLIGHT
BEGIN:STANDARD
TZOFFSETFROM:-0500
TZOFFSETTO:-0600
DTSTART:20071104T020000
RRULE:FREQ=YEARLY;BYMONTH=11;BYDAY=1SU
TZNAME:CST
END:STANDARD
END:VTIMEZONE
BEGIN:VEVENT
UID:ee6510f2-ff44-4857-96de-a1b1ddaf9f25.221923@calendar.missouristate.edu
CREATED:20220829T184810Z
LAST-MODIFIED:20220829T184810Z
LOCATION:Plaster Student Union\, Robert W. MRC PSU 101
SUMMARY:Native and Indigenous Heritage Month Guest Speaker
DESCRIPTION:A guest speaker will talk about culturally authentic represent
 ations of Native Americans in children's literature and K-12 curriculum. 
X-ALT-DESC;FMTTYPE=text/html:&lt;html&gt;&lt;head&gt;&lt;title&gt;&lt;/title&gt;&lt;/head&gt;&lt;body&gt;&lt;p&gt;A 
 guest speaker will talk about culturally authentic representations of Nat
 ive Americans in children's literature and K-12 curriculum.&amp;nbsp\;&lt;/p&gt;&lt;/b
 ody&gt;&lt;/html&gt;
DTSTART;TZID=America/Chicago:20221114T170000
DTEND;TZID=America/Chicago:20221114T180000
SEQUENCE:0
URL:116423.jpg
CATEGORIES:Public,Current Students,Faculty,Staff
END:VEVENT
END:VCALENDAR