BEGIN:VCALENDAR
VERSION:2.0
METHOD:PUBLISH
PRODID:-//Missouri State University/Calendar of Events//EN
CALSCALE:GREGORIAN
X-WR-TIMEZONE:America/Chicago
BEGIN:VTIMEZONE
TZID:America/Chicago
BEGIN:DAYLIGHT
TZOFFSETFROM:-0600
TZOFFSETTO:-0500
DTSTART:20070311T020000
RRULE:FREQ=YEARLY;BYMONTH=3;BYDAY=2SU
TZNAME:CDT
END:DAYLIGHT
BEGIN:STANDARD
TZOFFSETFROM:-0500
TZOFFSETTO:-0600
DTSTART:20071104T020000
RRULE:FREQ=YEARLY;BYMONTH=11;BYDAY=1SU
TZNAME:CST
END:STANDARD
END:VTIMEZONE
BEGIN:VEVENT
UID:37f6a02d-f8b4-4ee1-88cc-8984b8710ba3.221925@calendar.missouristate.edu
CREATED:20220829T185515Z
LAST-MODIFIED:20220829T185515Z
LOCATION:Hill Hall 0002
SUMMARY:Technology &amp; Aging
DESCRIPTION:Dr. Randy K. Dillon will speak about how social media and tech
 nology are impacting the lives of older adults and how we can be more age
 -friendly online. 
X-ALT-DESC;FMTTYPE=text/html:&lt;html&gt;&lt;head&gt;&lt;title&gt;&lt;/title&gt;&lt;/head&gt;&lt;body&gt;&lt;p&gt;Dr
 . Randy K. Dillon will speak about how social media and technology are im
 pacting the lives of older adults and how we can be more age-friendly onl
 ine.&amp;nbsp\;&lt;/p&gt;&lt;/body&gt;&lt;/html&gt;
DTSTART;TZID=America/Chicago:20220907T170000
DTEND;TZID=America/Chicago:20220907T180000
SEQUENCE:0
URL:116425.jpg
CATEGORIES:Current Students,Faculty,Staff
END:VEVENT
END:VCALENDAR