BEGIN:VCALENDAR
VERSION:2.0
METHOD:PUBLISH
PRODID:-//Missouri State University/Calendar of Events//EN
CALSCALE:GREGORIAN
X-WR-TIMEZONE:America/Chicago
BEGIN:VTIMEZONE
TZID:America/Chicago
BEGIN:DAYLIGHT
TZOFFSETFROM:-0600
TZOFFSETTO:-0500
DTSTART:20070311T020000
RRULE:FREQ=YEARLY;BYMONTH=3;BYDAY=2SU
TZNAME:CDT
END:DAYLIGHT
BEGIN:STANDARD
TZOFFSETFROM:-0500
TZOFFSETTO:-0600
DTSTART:20071104T020000
RRULE:FREQ=YEARLY;BYMONTH=11;BYDAY=1SU
TZNAME:CST
END:STANDARD
END:VTIMEZONE
BEGIN:VEVENT
UID:d46d40d5-1785-4a56-90c6-0fae2039d916.221929@calendar.missouristate.edu
CREATED:20220829T191136Z
LAST-MODIFIED:20220829T191136Z
LOCATION:Plaster Student Union\, Robert W. MRC PSU 101
SUMMARY:Finals Fever Game Night
DESCRIPTION:A game night to unwind and relax before finals week.
X-ALT-DESC;FMTTYPE=text/html:&lt;html&gt;&lt;head&gt;&lt;title&gt;&lt;/title&gt;&lt;/head&gt;&lt;body&gt;&lt;p&gt;A 
 game night to unwind and relax before finals week.&lt;/p&gt;&lt;/body&gt;&lt;/html&gt;
DTSTART;TZID=America/Chicago:20221207T180000
DTEND;TZID=America/Chicago:20221207T200000
SEQUENCE:0
URL:https://calendar.missouristate.edu/viewevent.aspx?eventid=116429&amp;occur
 renceid=221929
CATEGORIES:Current Students
END:VEVENT
END:VCALENDAR