BEGIN:VCALENDAR
VERSION:2.0
METHOD:PUBLISH
PRODID:-//Missouri State University/Calendar of Events//EN
CALSCALE:GREGORIAN
X-WR-TIMEZONE:America/Chicago
BEGIN:VTIMEZONE
TZID:America/Chicago
BEGIN:DAYLIGHT
TZOFFSETFROM:-0600
TZOFFSETTO:-0500
DTSTART:20070311T020000
RRULE:FREQ=YEARLY;BYMONTH=3;BYDAY=2SU
TZNAME:CDT
END:DAYLIGHT
BEGIN:STANDARD
TZOFFSETFROM:-0500
TZOFFSETTO:-0600
DTSTART:20071104T020000
RRULE:FREQ=YEARLY;BYMONTH=11;BYDAY=1SU
TZNAME:CST
END:STANDARD
END:VTIMEZONE
BEGIN:VEVENT
UID:85a3af20-b0df-4eb4-a5a8-e689e35b1036.221932@calendar.missouristate.edu
CREATED:20220831T020113Z
LAST-MODIFIED:20220831T020113Z
LOCATION:Plaster Student Union\, Robert W. Theater
SUMMARY:Film Screening: CODA
DESCRIPTION:In partnership with the Office of Public Affairs Support and M
 SU Foundation\, come watch this film in preparation for the Public Affair
 s Conference keynote speaker\, Marlee Matlin.\n\n\nRefreshments will be s
 erved.
X-ALT-DESC;FMTTYPE=text/html:&lt;html&gt;&lt;head&gt;&lt;title&gt;&lt;/title&gt;&lt;/head&gt;&lt;body&gt;&lt;p&gt;In
  partnership with the Office of Public Affairs Support and MSU Foundation
 \, come watch this film in preparation for the Public Affairs Conference 
 keynote speaker\, Marlee Matlin.&lt;/p&gt;\n&lt;p&gt;Refreshments will be served.&lt;/p&gt;
 &lt;/body&gt;&lt;/html&gt;
DTSTART;TZID=America/Chicago:20220913T173000
DTEND;TZID=America/Chicago:20220913T193000
SEQUENCE:0
URL:116432.jpg
CATEGORIES:Public,Alumni,Current Students,Faculty,Staff
END:VEVENT
END:VCALENDAR