BEGIN:VCALENDAR
VERSION:2.0
METHOD:PUBLISH
PRODID:-//Missouri State University/Calendar of Events//EN
CALSCALE:GREGORIAN
X-WR-TIMEZONE:America/Chicago
BEGIN:VTIMEZONE
TZID:America/Chicago
BEGIN:DAYLIGHT
TZOFFSETFROM:-0600
TZOFFSETTO:-0500
DTSTART:20070311T020000
RRULE:FREQ=YEARLY;BYMONTH=3;BYDAY=2SU
TZNAME:CDT
END:DAYLIGHT
BEGIN:STANDARD
TZOFFSETFROM:-0500
TZOFFSETTO:-0600
DTSTART:20071104T020000
RRULE:FREQ=YEARLY;BYMONTH=11;BYDAY=1SU
TZNAME:CST
END:STANDARD
END:VTIMEZONE
BEGIN:VEVENT
UID:7d178741-0a57-43f9-b87b-1d6e626d82b6.221935@calendar.missouristate.edu
CREATED:20220905T215050Z
LAST-MODIFIED:20220905T215050Z
LOCATION:Plaster Free Enterprise Center\, Robert W.
SUMMARY:Creating a Competitive Edge - from Vision to Customer Loyalty
DESCRIPTION:We live in a highly competitive and rapidly changing world. Fo
 r businesses to survive\, succeed and grow\, it is imperative that there 
 is a clear road map. This starts with a vision for your business that cem
 ents how you will operate to generate loyal customers - how to outperform
  and outlast your competition through loyalty beyond customer service. Th
 is course will provide key foundational details for you as an individual 
 contributor and/or leader in a competitive business environment.\n\n\nKey
  information:\n\n\n• What’s your individual role in your company’s vision
 ?• Why people resist change and how to help them adapt• Five proven techn
 iques and strategies to outlast your competition• How to create customer 
 loyalty beyond customer service
X-ALT-DESC;FMTTYPE=text/html:&lt;html&gt;&lt;head&gt;&lt;title&gt;&lt;/title&gt;&lt;/head&gt;&lt;body&gt;&lt;p&gt;We
  live in a highly competitive and rapidly changing world. For businesses 
 to survive\, succeed and grow\, it is imperative that there is a clear ro
 ad map. This starts with a vision for your business that cements how you 
 will operate to generate loyal customers - how to outperform and outlast 
 your competition through loyalty beyond customer service. This course wil
 l provide key foundational details for you as an individual contributor a
 nd/or leader in a competitive business environment.&lt;/p&gt;\n&lt;p&gt;Key informati
 on:&lt;/p&gt;\n&lt;p&gt;• What’s your individual role in your company’s vision?&lt;br&gt;• 
 Why people resist change and how to help them adapt&lt;br&gt;• Five proven tech
 niques and strategies to outlast your competition&lt;br&gt;• How to create cust
 omer loyalty beyond customer service&lt;/p&gt;&lt;/body&gt;&lt;/html&gt;
DTSTART;TZID=America/Chicago:20221026T090000
DTEND;TZID=America/Chicago:20221026T160000
SEQUENCE:0
URL:https://sbdc.missouristate.edu/training/
CATEGORIES:Public
END:VEVENT
END:VCALENDAR