BEGIN:VCALENDAR
VERSION:2.0
METHOD:PUBLISH
PRODID:-//Missouri State University/Calendar of Events//EN
CALSCALE:GREGORIAN
X-WR-TIMEZONE:America/Chicago
BEGIN:VTIMEZONE
TZID:America/Chicago
BEGIN:DAYLIGHT
TZOFFSETFROM:-0600
TZOFFSETTO:-0500
DTSTART:20070311T020000
RRULE:FREQ=YEARLY;BYMONTH=3;BYDAY=2SU
TZNAME:CDT
END:DAYLIGHT
BEGIN:STANDARD
TZOFFSETFROM:-0500
TZOFFSETTO:-0600
DTSTART:20071104T020000
RRULE:FREQ=YEARLY;BYMONTH=11;BYDAY=1SU
TZNAME:CST
END:STANDARD
END:VTIMEZONE
BEGIN:VEVENT
UID:a1b5f524-edef-4bed-80c9-f88c4ef31915.221938@calendar.missouristate.edu
CREATED:20220905T215636Z
LAST-MODIFIED:20220905T215636Z
LOCATION:Plaster Free Enterprise Center\, Robert W.
SUMMARY:Managing People\, Processes &amp; Projects
DESCRIPTION:Do you have more to do than you can manage in a 40-hour workwe
 ek?Do you feel that if you want something done right you have to do it yo
 urself? Do you find yourself having to "redo" work not done right the fir
 st time?If you answered yes to these questions\, you could be holding you
 rself\, your employees and your work group back from reaching maximum pot
 ential. By attending this seminar\, you will learn how to improve your sk
 ills in delegation\, time management and goal-setting so you can work mor
 e efficiently and effectively.Benefits of attending:Take control of your 
 work day by applying the techniques you learn during this seminar. You wi
 ll feel more confident in knowing how to organize your work and examine y
 our workload for value-adding qualities.
X-ALT-DESC;FMTTYPE=text/html:&lt;html&gt;&lt;head&gt;&lt;title&gt;&lt;/title&gt;&lt;/head&gt;&lt;body&gt;&lt;p&gt;Do
  you have more to do than you can manage in a 40-hour workweek?&lt;br&gt;&lt;br&gt;Do
  you feel that if you want something done right you have to do it yoursel
 f? &lt;br&gt;&lt;br&gt;Do you find yourself having to "redo" work not done right the 
 first time?&lt;br&gt;&lt;br&gt;If you answered yes to these questions\, you could be 
 holding yourself\, your employees and your work group back from reaching 
 maximum potential. By attending this seminar\, you will learn how to impr
 ove your skills in delegation\, time management and goal-setting so you c
 an work more efficiently and effectively.&lt;br&gt;&lt;br&gt;Benefits of attending:&lt;b
 r&gt;Take control of your work day by applying the techniques you learn duri
 ng this seminar. You will feel more confident in knowing how to organize 
 your work and examine your workload for value-adding qualities.&lt;/p&gt;&lt;/body
 &gt;&lt;/html&gt;
DTSTART;TZID=America/Chicago:20221006T090000
DTEND;TZID=America/Chicago:20221006T160000
SEQUENCE:0
URL:https://sbdc.missouristate.edu/training/
CATEGORIES:Public
END:VEVENT
END:VCALENDAR