BEGIN:VCALENDAR
VERSION:2.0
METHOD:PUBLISH
PRODID:-//Missouri State University/Calendar of Events//EN
CALSCALE:GREGORIAN
X-WR-TIMEZONE:America/Chicago
BEGIN:VTIMEZONE
TZID:America/Chicago
BEGIN:DAYLIGHT
TZOFFSETFROM:-0600
TZOFFSETTO:-0500
DTSTART:20070311T020000
RRULE:FREQ=YEARLY;BYMONTH=3;BYDAY=2SU
TZNAME:CDT
END:DAYLIGHT
BEGIN:STANDARD
TZOFFSETFROM:-0500
TZOFFSETTO:-0600
DTSTART:20071104T020000
RRULE:FREQ=YEARLY;BYMONTH=11;BYDAY=1SU
TZNAME:CST
END:STANDARD
END:VTIMEZONE
BEGIN:VEVENT
UID:bbbf6df8-0dd8-468d-8ce3-57d202475b9d.221940@calendar.missouristate.edu
CREATED:20220905T215926Z
LAST-MODIFIED:20220905T215926Z
LOCATION:Plaster Free Enterprise Center\, Robert W.
SUMMARY:Cash Matters Most - Improving Your Cash Flow
DESCRIPTION:In this second class of our financial management series\, we'l
 l take a close look at where cash comes from in a small business\, where 
 it's used in day-to-day operations and how to identify and correct cash f
 low problems. You'll be able to identify key information on cash flow sta
 tements and to follow the path of cash as it travels through your company
 . You'll identify cash flow strategies to use in your organization. You'l
 l become familiar with the sources and uses of cash\, ratios and the most
  common "gobblers" of cash in any business. This isn't theory - it's prac
 tical application for real businesses - like yours!
X-ALT-DESC;FMTTYPE=text/html:&lt;html&gt;&lt;head&gt;&lt;title&gt;&lt;/title&gt;&lt;/head&gt;&lt;body&gt;&lt;p&gt;In
  this second class of our financial management series\, we'll take a clos
 e look at where cash comes from in a small business\, where it's used in 
 day-to-day operations and how to identify and correct cash flow problems.
  You'll be able to identify key information on cash flow statements and t
 o follow the path of cash as it travels through your company. You'll iden
 tify cash flow strategies to use in your organization. You'll become fami
 liar with the sources and uses of cash\, ratios and the most common "gobb
 lers" of cash in any business. This isn't theory - it's practical applica
 tion for real businesses - like yours!&lt;/p&gt;&lt;/body&gt;&lt;/html&gt;
DTSTART;TZID=America/Chicago:20221011T090000
DTEND;TZID=America/Chicago:20221011T120000
SEQUENCE:0
URL:https://sbdc.missouristate.edu/training/
CATEGORIES:Public
END:VEVENT
END:VCALENDAR