BEGIN:VCALENDAR
VERSION:2.0
METHOD:PUBLISH
PRODID:-//Missouri State University/Calendar of Events//EN
CALSCALE:GREGORIAN
X-WR-TIMEZONE:America/Chicago
BEGIN:VTIMEZONE
TZID:America/Chicago
BEGIN:DAYLIGHT
TZOFFSETFROM:-0600
TZOFFSETTO:-0500
DTSTART:20070311T020000
RRULE:FREQ=YEARLY;BYMONTH=3;BYDAY=2SU
TZNAME:CDT
END:DAYLIGHT
BEGIN:STANDARD
TZOFFSETFROM:-0500
TZOFFSETTO:-0600
DTSTART:20071104T020000
RRULE:FREQ=YEARLY;BYMONTH=11;BYDAY=1SU
TZNAME:CST
END:STANDARD
END:VTIMEZONE
BEGIN:VEVENT
UID:e15744bb-c2a8-4977-a8a5-28715907551a.221941@calendar.missouristate.edu
CREATED:20221013T142555Z
LAST-MODIFIED:20221013T142555Z
LOCATION:Plaster Free Enterprise Center\, Robert W.
SUMMARY:Planning &amp; Predicting Your Financial Path
DESCRIPTION:Complete your financial education with this third course in ou
 r seminar series. This class is designed to teach you how to create and u
 se a cash budget to prepare for future business performance.\n\n\nDuring 
 this course\, you will learn to estimate future sources and uses of cash.
  You will also learn how to analyze your predictions to make more informe
 d decisions. You should leave this session feeling more comfortable about
  decisions related to preparing for growth\, realistic loan and financing
  requests\, how much cash you can safely take out of the business\, and h
 ow to make affordable purchases for your business. At its conclusion\, yo
 u should be able to: forecast sales\, receivables and expenses\, use a ca
 sh budget to create a month-by-month view and calculate Break-Even\, as i
 t relates to business expansions\, workforce additions or capital expendi
 tures.
X-ALT-DESC;FMTTYPE=text/html:&lt;html&gt;&lt;head&gt;&lt;title&gt;&lt;/title&gt;&lt;/head&gt;&lt;body&gt;&lt;p&gt;Co
 mplete your financial education with this third course in our seminar ser
 ies. This class is designed to teach you how to create and use a cash bud
 get to prepare for future business performance.&lt;/p&gt;\n&lt;p&gt;During this cours
 e\, you will learn to estimate future sources and uses of cash. You will 
 also learn how to analyze your predictions to make more informed decision
 s. You should leave this session feeling more comfortable about decisions
  related to preparing for growth\, realistic loan and financing requests\
 , how much cash you can safely take out of the business\, and how to make
  affordable purchases for your business. At its conclusion\, you should b
 e able to: forecast sales\, receivables and expenses\, use a cash budget 
 to create a month-by-month view and calculate Break-Even\, as it relates 
 to business expansions\, workforce additions or capital expenditures.&lt;/p&gt;
 &lt;/body&gt;&lt;/html&gt;
DTSTART;TZID=America/Chicago:20221018T090000
DTEND;TZID=America/Chicago:20221018T120000
SEQUENCE:0
URL:https://sbdc.missouristate.edu/training/
CATEGORIES:Public
END:VEVENT
END:VCALENDAR