BEGIN:VCALENDAR
VERSION:2.0
METHOD:PUBLISH
PRODID:-//Missouri State University/Calendar of Events//EN
CALSCALE:GREGORIAN
X-WR-TIMEZONE:America/Chicago
BEGIN:VTIMEZONE
TZID:America/Chicago
BEGIN:DAYLIGHT
TZOFFSETFROM:-0600
TZOFFSETTO:-0500
DTSTART:20070311T020000
RRULE:FREQ=YEARLY;BYMONTH=3;BYDAY=2SU
TZNAME:CDT
END:DAYLIGHT
BEGIN:STANDARD
TZOFFSETFROM:-0500
TZOFFSETTO:-0600
DTSTART:20071104T020000
RRULE:FREQ=YEARLY;BYMONTH=11;BYDAY=1SU
TZNAME:CST
END:STANDARD
END:VTIMEZONE
BEGIN:VEVENT
UID:dac3e8b5-5da4-4cbc-8e94-3fbb7236f71a.221942@calendar.missouristate.edu
CREATED:20221013T151830Z
LAST-MODIFIED:20221013T151830Z
LOCATION:Plaster Free Enterprise Center\, Robert W.
SUMMARY:Dynamic Communication Skills &amp; Strategies
DESCRIPTION:Learn to communicate in a manner that builds trust\, teamwork 
 and consensus. Develop key skills that result in two-way communication\, 
 which is critical to a participative management style. Examine obstacles 
 to effective communication and learn to facilitate supportive communicati
 on with diverse individuals and groups.
X-ALT-DESC;FMTTYPE=text/html:&lt;html&gt;&lt;head&gt;&lt;title&gt;&lt;/title&gt;&lt;/head&gt;&lt;body&gt;&lt;p&gt;Le
 arn to communicate in a manner that builds trust\, teamwork and consensus
 . Develop key skills that result in two-way communication\, which is crit
 ical to a participative management style. Examine obstacles to effective 
 communication and learn to facilitate supportive communication with diver
 se individuals and groups.&lt;/p&gt;&lt;/body&gt;&lt;/html&gt;
DTSTART;TZID=America/Chicago:20221108T090000
DTEND;TZID=America/Chicago:20221108T160000
SEQUENCE:0
URL:https://sbdc.missouristate.edu/training/
CATEGORIES:Public
END:VEVENT
END:VCALENDAR