BEGIN:VCALENDAR
VERSION:2.0
METHOD:PUBLISH
PRODID:-//Missouri State University/Calendar of Events//EN
CALSCALE:GREGORIAN
X-WR-TIMEZONE:America/Chicago
BEGIN:VTIMEZONE
TZID:America/Chicago
BEGIN:DAYLIGHT
TZOFFSETFROM:-0600
TZOFFSETTO:-0500
DTSTART:20070311T020000
RRULE:FREQ=YEARLY;BYMONTH=3;BYDAY=2SU
TZNAME:CDT
END:DAYLIGHT
BEGIN:STANDARD
TZOFFSETFROM:-0500
TZOFFSETTO:-0600
DTSTART:20071104T020000
RRULE:FREQ=YEARLY;BYMONTH=11;BYDAY=1SU
TZNAME:CST
END:STANDARD
END:VTIMEZONE
BEGIN:VEVENT
UID:1a47c0a1-a22e-42a1-97f8-26df5d9c8d0a.221944@calendar.missouristate.edu
CREATED:20220830T181410Z
LAST-MODIFIED:20220830T181410Z
LOCATION:Plaster Student Union\, Robert W. North Mall (In case of rain: PS
 U Theater)
SUMMARY:Fall Festival
DESCRIPTION:Enjoy some fall-themed foods\, a pie walk\, fun games and the 
 movie  Scooby Doo 2 Monsters Unleashed! 
X-ALT-DESC;FMTTYPE=text/html:&lt;html&gt;&lt;head&gt;&lt;title&gt;&lt;/title&gt;&lt;/head&gt;&lt;body&gt;&lt;p&gt;En
 joy some fall-themed foods\, a pie walk\, fun games and the movie&amp;nbsp\; 
 &lt;strong&gt;Scooby Doo 2 Monsters Unleashed&lt;/strong&gt;!&amp;nbsp\;&lt;/p&gt;&lt;/body&gt;&lt;/html&gt;
DTSTART;TZID=America/Chicago:20220915T190000
DTEND;TZID=America/Chicago:20220915T220000
SEQUENCE:0
URL:116444.jpg
CATEGORIES:Current Students
END:VEVENT
END:VCALENDAR