BEGIN:VCALENDAR
VERSION:2.0
METHOD:PUBLISH
PRODID:-//Missouri State University/Calendar of Events//EN
CALSCALE:GREGORIAN
X-WR-TIMEZONE:America/Chicago
BEGIN:VTIMEZONE
TZID:America/Chicago
BEGIN:DAYLIGHT
TZOFFSETFROM:-0600
TZOFFSETTO:-0500
DTSTART:20070311T020000
RRULE:FREQ=YEARLY;BYMONTH=3;BYDAY=2SU
TZNAME:CDT
END:DAYLIGHT
BEGIN:STANDARD
TZOFFSETFROM:-0500
TZOFFSETTO:-0600
DTSTART:20071104T020000
RRULE:FREQ=YEARLY;BYMONTH=11;BYDAY=1SU
TZNAME:CST
END:STANDARD
END:VTIMEZONE
BEGIN:VEVENT
UID:61dddd74-13df-4c3b-8613-a514a1ce736d.221945@calendar.missouristate.edu
CREATED:20221013T151435Z
LAST-MODIFIED:20221013T151435Z
LOCATION:Plaster Free Enterprise Center\, Robert W.
SUMMARY:QuickBooks® Online (The Basics)
DESCRIPTION:Are you thinking about using QuickBooks® Online or are you alr
 eady using it and want to be able to navigate more quickly? Our QuickBook
 s® Online hands-on training shows you how to utilize the software to docu
 ment and track the accounting activity of your business - no need to feel
  like you have to be an accountant.
X-ALT-DESC;FMTTYPE=text/html:&lt;html&gt;&lt;head&gt;&lt;title&gt;&lt;/title&gt;&lt;/head&gt;&lt;body&gt;&lt;p&gt;&lt;s
 pan&gt;Are you thinking about using QuickBooks® Online or are you already us
 ing it and want to be able to navigate more quickly? Our QuickBooks® Onli
 ne hands-on training shows you how to utilize the software to document an
 d track the accounting activity of your business - no need to feel like y
 ou have to be an accountant.&lt;/span&gt;&lt;/p&gt;&lt;/body&gt;&lt;/html&gt;
DTSTART;TZID=America/Chicago:20221102T090000
DTEND;TZID=America/Chicago:20221102T120000
SEQUENCE:0
URL:https://sbdc.missouristate.edu/training/
CATEGORIES:Public
END:VEVENT
END:VCALENDAR