BEGIN:VCALENDAR
VERSION:2.0
METHOD:PUBLISH
PRODID:-//Missouri State University/Calendar of Events//EN
CALSCALE:GREGORIAN
X-WR-TIMEZONE:America/Chicago
BEGIN:VTIMEZONE
TZID:America/Chicago
BEGIN:DAYLIGHT
TZOFFSETFROM:-0600
TZOFFSETTO:-0500
DTSTART:20070311T020000
RRULE:FREQ=YEARLY;BYMONTH=3;BYDAY=2SU
TZNAME:CDT
END:DAYLIGHT
BEGIN:STANDARD
TZOFFSETFROM:-0500
TZOFFSETTO:-0600
DTSTART:20071104T020000
RRULE:FREQ=YEARLY;BYMONTH=11;BYDAY=1SU
TZNAME:CST
END:STANDARD
END:VTIMEZONE
BEGIN:VEVENT
UID:119d4a8a-016c-4e97-b7ef-a4fb5fa41787.221947@calendar.missouristate.edu
CREATED:20220906T143931Z
LAST-MODIFIED:20220906T143931Z
LOCATION:Karls Hall 101
SUMMARY:Inevitable Conflict? The Future of US-China Relations
DESCRIPTION:This panel discussion\, organized by the Master of Internation
 al Affairs program\, will examine how the growing tensions between the Un
 ited States and China may evolve in the future. It will feature expert sp
 eakers from the University of Arkansas\, the University of Kansas and Mis
 souri State. The audience will have an opportunity to ask questions.
X-ALT-DESC;FMTTYPE=text/html:&lt;html&gt;&lt;head&gt;&lt;title&gt;&lt;/title&gt;&lt;/head&gt;&lt;body&gt;&lt;p&gt;Th
 is panel discussion\, organized by the Master of International Affairs pr
 ogram\, will examine how the growing tensions between the United States a
 nd China may evolve in the future. It will feature expert speakers from t
 he University of Arkansas\, the University of Kansas and Missouri State. 
 The audience will have an opportunity to ask questions.&lt;/p&gt;&lt;/body&gt;&lt;/html&gt;
DTSTART;TZID=America/Chicago:20220930T180000
DTEND;TZID=America/Chicago:20220930T194500
SEQUENCE:0
URL:116447.jpg
CATEGORIES:Public,Alumni,Current Students,Faculty,Staff
END:VEVENT
END:VCALENDAR