BEGIN:VCALENDAR
VERSION:2.0
METHOD:PUBLISH
PRODID:-//Missouri State University/Calendar of Events//EN
CALSCALE:GREGORIAN
X-WR-TIMEZONE:America/Chicago
BEGIN:VTIMEZONE
TZID:America/Chicago
BEGIN:DAYLIGHT
TZOFFSETFROM:-0600
TZOFFSETTO:-0500
DTSTART:20070311T020000
RRULE:FREQ=YEARLY;BYMONTH=3;BYDAY=2SU
TZNAME:CDT
END:DAYLIGHT
BEGIN:STANDARD
TZOFFSETFROM:-0500
TZOFFSETTO:-0600
DTSTART:20071104T020000
RRULE:FREQ=YEARLY;BYMONTH=11;BYDAY=1SU
TZNAME:CST
END:STANDARD
END:VTIMEZONE
BEGIN:VEVENT
UID:9df08783-58a0-44c7-8e66-d5fdd3a481dd_8929@calendar.missouristate.edu
CREATED:20220905T221407Z
LAST-MODIFIED:20220905T221407Z
LOCATION:To Be Determined
SUMMARY:2023 Ursa Experience - Maroon &amp; White Overnight
DESCRIPTION:At the Ursa Experience\, students are immersed in life at Miss
 ouri State University in a three-day\, two-night adventure. Both first-ye
 ar and transfer students admitted for fall are invited to attend.\n\n\nSt
 udents will:\n\n\n\nBuild friendships with student leaders and other stud
 ents attending\nLearn and participate in Missouri State traditions\nDiscu
 ss and think deeply about our public affairs mission\nExplore involvement
  opportunities at Missouri State\nMake memories that will last a lifetime
X-ALT-DESC;FMTTYPE=text/html:&lt;html&gt;&lt;head&gt;&lt;title&gt;&lt;/title&gt;&lt;/head&gt;&lt;body&gt;&lt;p&gt;At
  the Ursa Experience\, students are immersed in life at Missouri State Un
 iversity in a three-day\, two-night adventure. Both first-year and transf
 er students admitted for fall are invited to attend.&lt;/p&gt;\n&lt;p&gt;Students wil
 l:&lt;/p&gt;\n&lt;ul&gt;\n&lt;li&gt;Build friendships with student leaders and other studen
 ts attending&lt;/li&gt;\n&lt;li&gt;Learn and participate in Missouri State traditions
 &lt;/li&gt;\n&lt;li&gt;Discuss and think deeply about our public affairs mission&lt;/li&gt;
 \n&lt;li&gt;Explore involvement opportunities at Missouri State&lt;/li&gt;\n&lt;li&gt;Make 
 memories that will last a lifetime&lt;/li&gt;\n&lt;/ul&gt;&lt;/body&gt;&lt;/html&gt;
DTSTART;TZID=America/Chicago:20230814T000000
DTEND;TZID=America/Chicago:20230814T000000
RRULE:FREQ=WEEKLY;BYDAY=SU,MO,TU;UNTIL=20230817
SEQUENCE:0
URL:https://www.missouristate.edu/URSA/
CATEGORIES:Future Students
END:VEVENT
END:VCALENDAR