BEGIN:VCALENDAR
VERSION:2.0
METHOD:PUBLISH
PRODID:-//Missouri State University/Calendar of Events//EN
CALSCALE:GREGORIAN
X-WR-TIMEZONE:America/Chicago
BEGIN:VTIMEZONE
TZID:America/Chicago
BEGIN:DAYLIGHT
TZOFFSETFROM:-0600
TZOFFSETTO:-0500
DTSTART:20070311T020000
RRULE:FREQ=YEARLY;BYMONTH=3;BYDAY=2SU
TZNAME:CDT
END:DAYLIGHT
BEGIN:STANDARD
TZOFFSETFROM:-0500
TZOFFSETTO:-0600
DTSTART:20071104T020000
RRULE:FREQ=YEARLY;BYMONTH=11;BYDAY=1SU
TZNAME:CST
END:STANDARD
END:VTIMEZONE
BEGIN:VEVENT
UID:006dfdba-acf3-4057-8e55-9f721f453b7f.221953@calendar.missouristate.edu
CREATED:20220831T051508Z
LAST-MODIFIED:20220831T051508Z
LOCATION:Springfield\, Mo.\, Cooper Tennis Complex
SUMMARY:Missouri State University Women's Tennis vs MVC Individual Champio
 nships
DESCRIPTION:Missouri State University Women's Tennis hosts MVC Individual 
 Championships
X-ALT-DESC;FMTTYPE=text/html:&lt;html&gt;&lt;head&gt;&lt;title&gt;&lt;/title&gt;&lt;/head&gt;&lt;body&gt;Misso
 uri State University Women's Tennis hosts MVC Individual Championships&lt;/b
 ody&gt;&lt;/html&gt;
DTSTART;TZID=America/Chicago:20221007T090000
DTEND;TZID=America/Chicago:20221007T000000
SEQUENCE:1
URL:http://missouristatebears.com/index.aspx?path=wten
CATEGORIES:Current Students,Future Students,Parents and Family,Alumni,
 Faculty,Staff,Community,Visitors,Athletics
END:VEVENT
END:VCALENDAR