BEGIN:VCALENDAR
VERSION:2.0
METHOD:PUBLISH
PRODID:-//Missouri State University/Calendar of Events//EN
CALSCALE:GREGORIAN
X-WR-TIMEZONE:America/Chicago
BEGIN:VTIMEZONE
TZID:America/Chicago
BEGIN:DAYLIGHT
TZOFFSETFROM:-0600
TZOFFSETTO:-0500
DTSTART:20070311T020000
RRULE:FREQ=YEARLY;BYMONTH=3;BYDAY=2SU
TZNAME:CDT
END:DAYLIGHT
BEGIN:STANDARD
TZOFFSETFROM:-0500
TZOFFSETTO:-0600
DTSTART:20071104T020000
RRULE:FREQ=YEARLY;BYMONTH=11;BYDAY=1SU
TZNAME:CST
END:STANDARD
END:VTIMEZONE
BEGIN:VEVENT
UID:b806992e-6f41-4af3-a823-b4cf878920cb.221962@calendar.missouristate.edu
CREATED:20220907T155017Z
LAST-MODIFIED:20220907T155017Z
LOCATION:Plaster Student Union\, Robert W. Theater
SUMMARY:Stop the Violence Conference 2022
DESCRIPTION:Join us for a free conference sponsored by Abilities First and
  Missouri State University Department of Criminology and Criminal Justice
 .\n\n\nThe Stop the Violence Conference is a community call to action to 
 stop interpersonal violence. Attendees will have a choice of various brea
 kout sessions and two keynote presentations. The Stop the Violence confer
 ence is provided by the Family Violence Task Force with coordination supp
 ort by Missouri State\, Abilities First and the Greene County Family Just
 ice System. This conference can be attended in person or virtually.\n\n\n
 We will offer a Zoom feed with closed captioning and ASL interpreting for
  the sessions located in the PSU Theater\, which will include the keynote
  presentations. Please pre-register as space is limited to 300 attendees.
X-ALT-DESC;FMTTYPE=text/html:&lt;html&gt;&lt;head&gt;&lt;title&gt;&lt;/title&gt;&lt;/head&gt;&lt;body&gt;&lt;p&gt;Jo
 in us for a &lt;strong&gt;free&lt;/strong&gt; conference sponsored by Abilities First
  and Missouri State University Department of Criminology and Criminal Jus
 tice.&lt;/p&gt;\n&lt;p&gt;The Stop the Violence Conference is a community call to act
 ion to stop interpersonal violence. Attendees will have a choice of vario
 us breakout sessions and two keynote presentations. The Stop the Violence
  conference is provided by the Family Violence Task Force with coordinati
 on support by Missouri State\, Abilities First and the Greene County Fami
 ly Justice System. This conference can be attended in person or virtually
 .&lt;/p&gt;\n&lt;p&gt;We will offer a Zoom feed with closed captioning and ASL interp
 reting for the sessions located in the PSU Theater\, which will include t
 he keynote presentations. Please&amp;nbsp\;&lt;a href="https://noncredit.missour
 istate.edu/stop-the-violence-conference.htm"&gt;pre-register&lt;/a&gt; as space is
  limited to 300 attendees.&lt;/p&gt;&lt;/body&gt;&lt;/html&gt;
DTSTART;TZID=America/Chicago:20221007T083000
DTEND;TZID=America/Chicago:20221007T153000
SEQUENCE:0
URL:https://noncredit.missouristate.edu/stop-the-violence-conference.htm
CATEGORIES:Public,Alumni,Current Students,Faculty,Future Students,Staff
END:VEVENT
END:VCALENDAR