BEGIN:VCALENDAR
VERSION:2.0
METHOD:PUBLISH
PRODID:-//Missouri State University/Calendar of Events//EN
CALSCALE:GREGORIAN
X-WR-TIMEZONE:America/Chicago
BEGIN:VTIMEZONE
TZID:America/Chicago
BEGIN:DAYLIGHT
TZOFFSETFROM:-0600
TZOFFSETTO:-0500
DTSTART:20070311T020000
RRULE:FREQ=YEARLY;BYMONTH=3;BYDAY=2SU
TZNAME:CDT
END:DAYLIGHT
BEGIN:STANDARD
TZOFFSETFROM:-0500
TZOFFSETTO:-0600
DTSTART:20071104T020000
RRULE:FREQ=YEARLY;BYMONTH=11;BYDAY=1SU
TZNAME:CST
END:STANDARD
END:VTIMEZONE
BEGIN:VEVENT
UID:4cfeae4f-8a80-40d4-9620-a4e6994c9a4c.221986@calendar.missouristate.edu
CREATED:20230502T153349Z
LAST-MODIFIED:20230502T153349Z
LOCATION:Plaster Student Union\, Robert W. PLSU 400 Union Club
SUMMARY:LIBERAtE Worship
DESCRIPTION:In partnership with The Field\, we gather for a worship servic
 e that explores faith through a lens of justice and inclusion. LIBERAtE i
 s a welcoming space for all who seek community\, personal growth and/or s
 piritual formation\, for people of every race\, nationality\, differing a
 bilitiy\, and sexual and gender identity. ALL are welcome! 
X-ALT-DESC;FMTTYPE=text/html:&lt;html&gt;&lt;head&gt;&lt;title&gt;&lt;/title&gt;&lt;/head&gt;&lt;body&gt;&lt;p&gt;In
  partnership with The Field\, we gather for a worship service that explor
 es faith through a lens of justice and inclusion. LIBERAtE is a welcoming
  space for all who seek community\, personal growth and/or spiritual form
 ation\, for people of every race\, nationality\, differing abilitiy\, and
  sexual and gender identity. ALL are welcome!&amp;nbsp\;&lt;/p&gt;\n&lt;p&gt;&lt;/p&gt;\n&lt;p&gt;&lt;st
 rong&gt;&lt;/strong&gt;&lt;/p&gt;&lt;/body&gt;&lt;/html&gt;
DTSTART;TZID=America/Chicago:20220906T200000
DTEND;TZID=America/Chicago:20220906T210000
SEQUENCE:0
URL:http://www.ekklesiamsu.org
CATEGORIES:Public,Alumni,Current Students,Faculty,Future Students,Staff
END:VEVENT
END:VCALENDAR