BEGIN:VCALENDAR
VERSION:2.0
METHOD:PUBLISH
PRODID:-//Missouri State University/Calendar of Events//EN
CALSCALE:GREGORIAN
X-WR-TIMEZONE:America/Chicago
BEGIN:VTIMEZONE
TZID:America/Chicago
BEGIN:DAYLIGHT
TZOFFSETFROM:-0600
TZOFFSETTO:-0500
DTSTART:20070311T020000
RRULE:FREQ=YEARLY;BYMONTH=3;BYDAY=2SU
TZNAME:CDT
END:DAYLIGHT
BEGIN:STANDARD
TZOFFSETFROM:-0500
TZOFFSETTO:-0600
DTSTART:20071104T020000
RRULE:FREQ=YEARLY;BYMONTH=11;BYDAY=1SU
TZNAME:CST
END:STANDARD
END:VTIMEZONE
BEGIN:VEVENT
UID:ba8d3811-9de8-47cb-8746-b52741b53961.222093@calendar.missouristate.edu
CREATED:20220902T152830Z
LAST-MODIFIED:20220902T152830Z
LOCATION:
SUMMARY:Academic Advisor Forum: General Education Sampler: Public Issues\,
  Part 1 
DESCRIPTION:Do you find yourself wanting more information about a general 
 education course than the basic course description? Do advisees ask you t
 o tell them more about general education courses in a specific area? Come
  and learn additional information about some of our departments represent
 ed in the Public Issues (GEC 116) area. The following courses will be cov
 ered: EDC 249\, ENG 201\, ENG 222\, GEO 200\, ITC 200\, KIN 210\, KIN 286
  and PLN 100. Part 2 coming in spring 2023!
X-ALT-DESC;FMTTYPE=text/html:&lt;html&gt;&lt;head&gt;&lt;title&gt;&lt;/title&gt;&lt;/head&gt;&lt;body&gt;&lt;p&gt;Do
  you find yourself wanting more information about a general education cou
 rse than the basic course description? Do advisees ask you to tell them m
 ore about general education courses in a specific area? Come and learn ad
 ditional information about some of our departments represented in the Pub
 lic Issues (GEC 116) area. The following courses will be covered: EDC 249
 \, ENG 201\, ENG 222\, GEO 200\, ITC 200\, KIN 210\, KIN 286 and PLN 100.
  Part 2 coming in spring 2023!&lt;/p&gt;\n&lt;p&gt;&lt;/p&gt;&lt;/body&gt;&lt;/html&gt;
DTSTART;TZID=America/Chicago:20220919T120000
DTEND;TZID=America/Chicago:20220919T130000
SEQUENCE:0
URL:https://www.missouristate.edu/Advising/forum-schedule.htm
CATEGORIES:Faculty,Staff
END:VEVENT
END:VCALENDAR