BEGIN:VCALENDAR
VERSION:2.0
METHOD:PUBLISH
PRODID:-//Missouri State University/Calendar of Events//EN
CALSCALE:GREGORIAN
X-WR-TIMEZONE:America/Chicago
BEGIN:VTIMEZONE
TZID:America/Chicago
BEGIN:DAYLIGHT
TZOFFSETFROM:-0600
TZOFFSETTO:-0500
DTSTART:20070311T020000
RRULE:FREQ=YEARLY;BYMONTH=3;BYDAY=2SU
TZNAME:CDT
END:DAYLIGHT
BEGIN:STANDARD
TZOFFSETFROM:-0500
TZOFFSETTO:-0600
DTSTART:20071104T020000
RRULE:FREQ=YEARLY;BYMONTH=11;BYDAY=1SU
TZNAME:CST
END:STANDARD
END:VTIMEZONE
BEGIN:VEVENT
UID:c31fcdf4-12d6-4061-8f4e-3bce4da21402.222094@calendar.missouristate.edu
CREATED:20220902T192750Z
LAST-MODIFIED:20220902T192750Z
LOCATION:Glass Hall\, David D. 486
SUMMARY:Magellan Exchange Virtual Study Abroad Fair Watch Party
DESCRIPTION:Join us to learn about international schools where MSU student
 s can study for a semester abroad and pay MSU tuition. Some schools also 
 offer summer programs. Breakfast snacks will be provided. Come and go as 
 your schedule permits.\n\n\nContact the International Business Programs o
 ffice in Glass 103 for more information or email ibp@missouristate.edu.
X-ALT-DESC;FMTTYPE=text/html:&lt;html&gt;&lt;head&gt;&lt;title&gt;&lt;/title&gt;&lt;/head&gt;&lt;body&gt;&lt;p&gt;Jo
 in us to learn about international schools where MSU students can study f
 or a semester abroad and pay MSU tuition. Some schools also offer summer 
 programs. Breakfast snacks will be provided. Come and go as your schedule
  permits.&lt;/p&gt;\n&lt;p&gt;Contact the International Business Programs office in G
 lass 103 for more information or email ibp@missouristate.edu.&lt;/p&gt;&lt;/body&gt;&lt;
 /html&gt;
DTSTART;TZID=America/Chicago:20220907T083000
DTEND;TZID=America/Chicago:20220907T103000
SEQUENCE:0
URL:116463.jpg
CATEGORIES:Current Students
END:VEVENT
END:VCALENDAR