BEGIN:VCALENDAR
VERSION:2.0
METHOD:PUBLISH
PRODID:-//Missouri State University/Calendar of Events//EN
CALSCALE:GREGORIAN
X-WR-TIMEZONE:America/Chicago
BEGIN:VTIMEZONE
TZID:America/Chicago
BEGIN:DAYLIGHT
TZOFFSETFROM:-0600
TZOFFSETTO:-0500
DTSTART:20070311T020000
RRULE:FREQ=YEARLY;BYMONTH=3;BYDAY=2SU
TZNAME:CDT
END:DAYLIGHT
BEGIN:STANDARD
TZOFFSETFROM:-0500
TZOFFSETTO:-0600
DTSTART:20071104T020000
RRULE:FREQ=YEARLY;BYMONTH=11;BYDAY=1SU
TZNAME:CST
END:STANDARD
END:VTIMEZONE
BEGIN:VEVENT
UID:368c6b5f-4739-4efd-9788-4729f148d0ba.222095@calendar.missouristate.edu
CREATED:20220902T183512Z
LAST-MODIFIED:20220902T183512Z
LOCATION:
SUMMARY:Academic Advisor Forum: What’s New in Academic Advising
DESCRIPTION:Learn about some recent changes to General Education course of
 ferings from four academic departments. Additionally\, the Missouri State
  University Counseling Center has adopted a new model to better assist st
 udents and will share about these changes and what that means for advisor
 s. This forum is essential for academic advisors so that we can better as
 sist students in choosing General Education courses\, as well as how stud
 ents access mental health services on campus. Courses presented on will b
 e DTN 130\, ENG 105\, GER 180 and REL 110.
X-ALT-DESC;FMTTYPE=text/html:&lt;html&gt;&lt;head&gt;&lt;title&gt;&lt;/title&gt;&lt;/head&gt;&lt;body&gt;&lt;p&gt;Le
 arn about some recent changes to General Education course offerings from 
 four academic departments. Additionally\, the Missouri State University C
 ounseling Center has adopted a new model to better assist students and wi
 ll share about these changes and what that means for advisors. This forum
  is essential for academic advisors so that we can better assist students
  in choosing General Education courses\, as well as how students access m
 ental health services on campus. Courses presented on will be DTN 130\, E
 NG 105\, GER 180 and REL 110.&lt;/p&gt;&lt;/body&gt;&lt;/html&gt;
DTSTART;TZID=America/Chicago:20220913T120000
DTEND;TZID=America/Chicago:20220913T130000
SEQUENCE:1
URL:https://www.missouristate.edu/Advising/forum-schedule.htm
CATEGORIES:Faculty,Staff
END:VEVENT
END:VCALENDAR