BEGIN:VCALENDAR
VERSION:2.0
METHOD:PUBLISH
PRODID:-//Missouri State University/Calendar of Events//EN
CALSCALE:GREGORIAN
X-WR-TIMEZONE:America/Chicago
BEGIN:VTIMEZONE
TZID:America/Chicago
BEGIN:DAYLIGHT
TZOFFSETFROM:-0600
TZOFFSETTO:-0500
DTSTART:20070311T020000
RRULE:FREQ=YEARLY;BYMONTH=3;BYDAY=2SU
TZNAME:CDT
END:DAYLIGHT
BEGIN:STANDARD
TZOFFSETFROM:-0500
TZOFFSETTO:-0600
DTSTART:20071104T020000
RRULE:FREQ=YEARLY;BYMONTH=11;BYDAY=1SU
TZNAME:CST
END:STANDARD
END:VTIMEZONE
BEGIN:VEVENT
UID:2944d930-9eb4-464f-be31-0bce1537f381.222096@calendar.missouristate.edu
CREATED:20220902T193739Z
LAST-MODIFIED:20220902T193739Z
LOCATION:Plaster Student Union\, Robert W. 313
SUMMARY:Academic Advisor Forum: Putting Together the Puzzle Pieces: How to
  Identify\, Support and Refer a Student of Concern
DESCRIPTION:Have you ever been unsure of how to support a student who you 
 might be concerned about? The Behavioral Intervention Team (BIT) is a res
 ource to members of the university community who have a concern about a s
 tudent’s behavior and need the opportunity to consult with professionals 
 who deal with behavioral issues on a more frequent basis. Come learn more
  about how to identify\, support and refer a student of concern.
X-ALT-DESC;FMTTYPE=text/html:&lt;html&gt;&lt;head&gt;&lt;title&gt;&lt;/title&gt;&lt;/head&gt;&lt;body&gt;&lt;p&gt;Ha
 ve you ever been unsure of how to support a student who you might be conc
 erned about? The Behavioral Intervention Team (BIT) is a resource to memb
 ers of the university community who have a concern about a student’s beha
 vior and need the opportunity to consult with professionals who deal with
  behavioral issues on a more frequent basis. Come learn more about how to
  identify\, support and refer a student of concern.&lt;/p&gt;&lt;/body&gt;&lt;/html&gt;
DTSTART;TZID=America/Chicago:20220922T120000
DTEND;TZID=America/Chicago:20220922T130000
SEQUENCE:0
URL:https://www.missouristate.edu/Advising/forum-schedule.htm
CATEGORIES:Faculty,Staff
END:VEVENT
END:VCALENDAR