BEGIN:VCALENDAR
VERSION:2.0
METHOD:PUBLISH
PRODID:-//Missouri State University/Calendar of Events//EN
CALSCALE:GREGORIAN
X-WR-TIMEZONE:America/Chicago
BEGIN:VTIMEZONE
TZID:America/Chicago
BEGIN:DAYLIGHT
TZOFFSETFROM:-0600
TZOFFSETTO:-0500
DTSTART:20070311T020000
RRULE:FREQ=YEARLY;BYMONTH=3;BYDAY=2SU
TZNAME:CDT
END:DAYLIGHT
BEGIN:STANDARD
TZOFFSETFROM:-0500
TZOFFSETTO:-0600
DTSTART:20071104T020000
RRULE:FREQ=YEARLY;BYMONTH=11;BYDAY=1SU
TZNAME:CST
END:STANDARD
END:VTIMEZONE
BEGIN:VEVENT
UID:5dba0da5-8108-4b32-9534-53b0cd56703a.222097@calendar.missouristate.edu
CREATED:20220902T193809Z
LAST-MODIFIED:20220902T193809Z
LOCATION:Plaster Student Union\, Robert W. 315
SUMMARY:Academic Advisor Forum: CORE 42 and You: A Guide to Advising CORE 
 42 Students
DESCRIPTION:If you advise students who fall under CORE 42\, this forum is 
 for you! We will have information for those new to CORE 42\, as well as t
 hose who are a bit more familiar with CORE 42. Topics covered include:\n\
 n\n\nCORE 42 eligibility\nUpdates to CORE 42\nComparing MSU Gen Ed to COR
 E 42\nHow associate degrees factor into CORE 42
X-ALT-DESC;FMTTYPE=text/html:&lt;html&gt;&lt;head&gt;&lt;title&gt;&lt;/title&gt;&lt;/head&gt;&lt;body&gt;&lt;p&gt;If
  you advise students who fall under CORE 42\, this forum is for you! We w
 ill have information for those new to CORE 42\, as well as those who are 
 a bit more familiar with CORE 42. Topics covered include:&lt;/p&gt;\n&lt;ul&gt;\n&lt;li&gt;
 CORE 42 eligibility&lt;/li&gt;\n&lt;li&gt;Updates to CORE 42&lt;/li&gt;\n&lt;li&gt;Comparing MSU 
 Gen Ed to CORE 42&lt;/li&gt;\n&lt;li&gt;How associate degrees factor into CORE 42&lt;/li
 &gt;\n&lt;/ul&gt;&lt;/body&gt;&lt;/html&gt;
DTSTART;TZID=America/Chicago:20221018T120000
DTEND;TZID=America/Chicago:20221018T130000
SEQUENCE:0
URL:https://www.missouristate.edu/Advising/forum-schedule.htm
CATEGORIES:Faculty,Staff
END:VEVENT
END:VCALENDAR