BEGIN:VCALENDAR
VERSION:2.0
METHOD:PUBLISH
PRODID:-//Missouri State University/Calendar of Events//EN
CALSCALE:GREGORIAN
X-WR-TIMEZONE:America/Chicago
BEGIN:VTIMEZONE
TZID:America/Chicago
BEGIN:DAYLIGHT
TZOFFSETFROM:-0600
TZOFFSETTO:-0500
DTSTART:20070311T020000
RRULE:FREQ=YEARLY;BYMONTH=3;BYDAY=2SU
TZNAME:CDT
END:DAYLIGHT
BEGIN:STANDARD
TZOFFSETFROM:-0500
TZOFFSETTO:-0600
DTSTART:20071104T020000
RRULE:FREQ=YEARLY;BYMONTH=11;BYDAY=1SU
TZNAME:CST
END:STANDARD
END:VTIMEZONE
BEGIN:VEVENT
UID:627218bf-5334-4051-8c68-7e4d1c1e1c13.222099@calendar.missouristate.edu
CREATED:20220902T193907Z
LAST-MODIFIED:20220902T193907Z
LOCATION:
SUMMARY:Academic Advisor Forum: Advising with Cultural Competence at the F
 orefront
DESCRIPTION:Cultural competence is a pillar of Public Affairs. Advisors me
 et with students daily with unique and individualistic experiences. How d
 o you build rapport and meaningful relationships with students who have v
 ery different experiences than you? How do you create a welcoming environ
 ment where listening is forefront? Attend this panel discussion to learn 
 more about advising with cultural competence.
X-ALT-DESC;FMTTYPE=text/html:&lt;html&gt;&lt;head&gt;&lt;title&gt;&lt;/title&gt;&lt;/head&gt;&lt;body&gt;&lt;p&gt;Cu
 ltural competence is a pillar of Public Affairs. Advisors meet with stude
 nts daily with unique and individualistic experiences. How do you build r
 apport and meaningful relationships with students who have very different
  experiences than you? How do you create a welcoming environment where li
 stening is forefront? Attend this panel discussion to learn more about ad
 vising with cultural competence.&lt;/p&gt;&lt;/body&gt;&lt;/html&gt;
DTSTART;TZID=America/Chicago:20221201T120000
DTEND;TZID=America/Chicago:20221201T130000
SEQUENCE:0
URL:https://www.missouristate.edu/Advising/forum-schedule.htm
CATEGORIES:Faculty,Staff
END:VEVENT
END:VCALENDAR