BEGIN:VCALENDAR
VERSION:2.0
METHOD:PUBLISH
PRODID:-//Missouri State University/Calendar of Events//EN
CALSCALE:GREGORIAN
X-WR-TIMEZONE:America/Chicago
BEGIN:VTIMEZONE
TZID:America/Chicago
BEGIN:DAYLIGHT
TZOFFSETFROM:-0600
TZOFFSETTO:-0500
DTSTART:20070311T020000
RRULE:FREQ=YEARLY;BYMONTH=3;BYDAY=2SU
TZNAME:CDT
END:DAYLIGHT
BEGIN:STANDARD
TZOFFSETFROM:-0500
TZOFFSETTO:-0600
DTSTART:20071104T020000
RRULE:FREQ=YEARLY;BYMONTH=11;BYDAY=1SU
TZNAME:CST
END:STANDARD
END:VTIMEZONE
BEGIN:VEVENT
UID:a7d6e42e-e915-4bd8-ba11-ebaca1275747.222101@calendar.missouristate.edu
CREATED:20220902T193931Z
LAST-MODIFIED:20220902T193931Z
LOCATION:Plaster Student Union\, Robert W. 313
SUMMARY:Academic Advisor Forum: You Can Help a Student
DESCRIPTION:Attend this training to learn more about supporting students s
 truggling with mental health concerns\, including how and where to refer 
 students when necessary. This 90-minute session uses interaction and conv
 ersations to teach audience members actionable ways they can support stud
 ents in distress.
X-ALT-DESC;FMTTYPE=text/html:&lt;html&gt;&lt;head&gt;&lt;title&gt;&lt;/title&gt;&lt;/head&gt;&lt;body&gt;&lt;p&gt;At
 tend this training to learn more about supporting students struggling wit
 h mental health concerns\, including how and where to refer students when
  necessary. This 90-minute session uses interaction and conversations to 
 teach audience members actionable ways they can support students in distr
 ess.&lt;/p&gt;&lt;/body&gt;&lt;/html&gt;
DTSTART;TZID=America/Chicago:20221206T120000
DTEND;TZID=America/Chicago:20221206T140000
SEQUENCE:0
URL:https://www.missouristate.edu/Advising/forum-schedule.htm
CATEGORIES:Faculty,Staff
END:VEVENT
END:VCALENDAR