BEGIN:VCALENDAR
VERSION:2.0
METHOD:PUBLISH
PRODID:-//Missouri State University/Calendar of Events//EN
CALSCALE:GREGORIAN
X-WR-TIMEZONE:America/Chicago
BEGIN:VTIMEZONE
TZID:America/Chicago
BEGIN:DAYLIGHT
TZOFFSETFROM:-0600
TZOFFSETTO:-0500
DTSTART:20070311T020000
RRULE:FREQ=YEARLY;BYMONTH=3;BYDAY=2SU
TZNAME:CDT
END:DAYLIGHT
BEGIN:STANDARD
TZOFFSETFROM:-0500
TZOFFSETTO:-0600
DTSTART:20071104T020000
RRULE:FREQ=YEARLY;BYMONTH=11;BYDAY=1SU
TZNAME:CST
END:STANDARD
END:VTIMEZONE
BEGIN:VEVENT
UID:d641c557-dced-4013-8932-8d041635d471.222141@calendar.missouristate.edu
CREATED:20220912T200753Z
LAST-MODIFIED:20220912T200753Z
LOCATION:Glass Hall\, David D. 486
SUMMARY:Preparing Your Student For Higher Education
DESCRIPTION:Julia Holmes presents this two-hour free training that focuses
  on the differences between expectations\, opportunities and support for 
 students with disabilities in high school and college\, university and tr
 aining. Presented by the BLAST Project. Food provided.
X-ALT-DESC;FMTTYPE=text/html:&lt;html&gt;&lt;head&gt;&lt;title&gt;&lt;/title&gt;&lt;/head&gt;&lt;body&gt;&lt;div&gt;
 \n&lt;div&gt;Julia Holmes presents this two-hour free training that focuses on 
 the differences between expectations\, opportunities and support for stud
 ents with disabilities in high school and college\, university and traini
 ng. Presented by the BLAST Project. Food provided.&lt;/div&gt;\n&lt;/div&gt;&lt;/body&gt;&lt;/
 html&gt;
DTSTART;TZID=America/Chicago:20220915T180000
DTEND;TZID=America/Chicago:20220915T200000
SEQUENCE:0
URL:https://www.missouristate.edu/EVPProvost/BLAST/
CATEGORIES:Public,Alumni,Current Students,Faculty,Future Students,Staff
END:VEVENT
END:VCALENDAR