BEGIN:VCALENDAR
VERSION:2.0
METHOD:PUBLISH
PRODID:-//Missouri State University/Calendar of Events//EN
CALSCALE:GREGORIAN
X-WR-TIMEZONE:America/Chicago
BEGIN:VTIMEZONE
TZID:America/Chicago
BEGIN:DAYLIGHT
TZOFFSETFROM:-0600
TZOFFSETTO:-0500
DTSTART:20070311T020000
RRULE:FREQ=YEARLY;BYMONTH=3;BYDAY=2SU
TZNAME:CDT
END:DAYLIGHT
BEGIN:STANDARD
TZOFFSETFROM:-0500
TZOFFSETTO:-0600
DTSTART:20071104T020000
RRULE:FREQ=YEARLY;BYMONTH=11;BYDAY=1SU
TZNAME:CST
END:STANDARD
END:VTIMEZONE
BEGIN:VEVENT
UID:79610699-5bd1-432d-9b8d-c42907802d09.222196@calendar.missouristate.edu
CREATED:20220917T133839Z
LAST-MODIFIED:20220917T133839Z
LOCATION:
SUMMARY:Linguistics Colloquium: Talk by Prof. John Petrovic
DESCRIPTION:A lot of recent literature considers the so-called commodifica
 tion of language. While many authors cite Karl Marx in this vein\, there 
 is little engagement with Marxist theory. This leads to misreadings of th
 e commodity form and concomitant notions\, such as appropriation and disp
 ossession. From a Marxist lens\, it seems that language can be subject to
  neither process and applied linguists should turn to more productive ana
 lytical lenses such as Bourdieuan notions of capital (although\, this too
 \, derives from Marx) or racio-linguistics.
X-ALT-DESC;FMTTYPE=text/html:&lt;html&gt;&lt;head&gt;&lt;title&gt;&lt;/title&gt;&lt;/head&gt;&lt;body&gt;&lt;p&gt;A 
 lot of recent literature considers the so-called commodification of langu
 age. While many authors cite Karl Marx in this vein\, there is little eng
 agement with Marxist theory. This leads to misreadings of the commodity f
 orm and concomitant notions\, such as appropriation and dispossession. Fr
 om a Marxist lens\, it seems that language can be subject to neither proc
 ess and applied linguists should turn to more productive analytical lense
 s such as Bourdieuan notions of capital (although\, this too\, derives fr
 om Marx) or racio-linguistics.&lt;/p&gt;&lt;/body&gt;&lt;/html&gt;
DTSTART;TZID=America/Chicago:20221025T120000
DTEND;TZID=America/Chicago:20221025T130000
SEQUENCE:1
URL:https://blogs.missouristate.edu/wlc/2022/09/06/linguistics-colloquia-f
 all-2022-series/
CATEGORIES:Public,Alumni,Current Students,Faculty,Future Students,Staff
END:VEVENT
END:VCALENDAR