BEGIN:VCALENDAR
VERSION:2.0
METHOD:PUBLISH
PRODID:-//Missouri State University/Calendar of Events//EN
CALSCALE:GREGORIAN
X-WR-TIMEZONE:America/Chicago
BEGIN:VTIMEZONE
TZID:America/Chicago
BEGIN:DAYLIGHT
TZOFFSETFROM:-0600
TZOFFSETTO:-0500
DTSTART:20070311T020000
RRULE:FREQ=YEARLY;BYMONTH=3;BYDAY=2SU
TZNAME:CDT
END:DAYLIGHT
BEGIN:STANDARD
TZOFFSETFROM:-0500
TZOFFSETTO:-0600
DTSTART:20071104T020000
RRULE:FREQ=YEARLY;BYMONTH=11;BYDAY=1SU
TZNAME:CST
END:STANDARD
END:VTIMEZONE
BEGIN:VEVENT
UID:8e941024-8b88-472e-8b59-2728a9d2039a.222200@calendar.missouristate.edu
CREATED:20220907T192847Z
LAST-MODIFIED:20220907T192847Z
LOCATION:Cheek Hall 212
SUMMARY:Computer Science Seminar - ConocoPhillips
DESCRIPTION:Jake Skidmore will present an overview of ConocoPhillips and t
 he opportunities for internships and full-time positions with the IT orga
 nizations. He will discuss the details around the internship program\, th
 e new hire rotation program\, the cybersecurity rotation program\, and wi
 ll take all questions related to ConocoPhillips\, career opportunities\, 
 or career paths in IT. Jake will also be attending the College of Busines
 s career fair on Tuesday September 13th with the rest of the Missouri Sta
 te recruiting team.\n\n\nJake Skidmore is a Springfield native who spent 
 8 years working in grocery before graduating from Missouri State Universi
 ty with a bachelor’s degree in Information Technology with an emphasis in
  infrastructure in December 2019.  After graduation\, he joined ConocoPhi
 llips in August of 2020 where he worked as a Cloud Security Analyst prima
 rily focused on AWS service compliance and governance.\n\n\nCurrently\, h
 e is on the ERP Technical team working with automated regression testing 
 for business processes in SAP and is the Co-Lead recruiter for IT recruit
 ing at Missouri State.
X-ALT-DESC;FMTTYPE=text/html:&lt;html&gt;&lt;head&gt;&lt;title&gt;&lt;/title&gt;&lt;/head&gt;&lt;body&gt;&lt;p&gt;&lt;s
 pan&gt;Jake Skidmore will present an overview of ConocoPhillips and the oppo
 rtunities for internships and full-time positions with the IT organizatio
 ns. He will discuss the details around the internship program\, the new h
 ire rotation program\, the cybersecurity rotation program\, and will take
  all questions related to ConocoPhillips\, career opportunities\, or care
 er paths in IT. Jake will also be attending the College of Business caree
 r fair on Tuesday September 13&lt;sup&gt;th&lt;/sup&gt;&amp;nbsp\;with the rest of the Mi
 ssouri State recruiting team.&lt;/span&gt;&lt;/p&gt;\n&lt;p&gt;&lt;span&gt;Jake Skidmore is a Spr
 ingfield native who spent 8 years working in grocery before graduating fr
 om Missouri State University with a bachelor’s degree in Information Tech
 nology with an emphasis in infrastructure in December 2019.&lt;br&gt; &lt;br&gt; Afte
 r graduation\, he joined ConocoPhillips in August of 2020 where he worked
  as a Cloud Security Analyst primarily focused on AWS service compliance 
 and governance.&lt;/span&gt;&lt;/p&gt;\n&lt;p&gt;&lt;span&gt;Currently\, he is on the ERP Technic
 al team working with automated regression testing for business processes 
 in SAP and is the Co-Lead recruiter for IT recruiting at Missouri State.&lt;
 /span&gt;&lt;/p&gt;&lt;/body&gt;&lt;/html&gt;
DTSTART;TZID=America/Chicago:20220912T111500
DTEND;TZID=America/Chicago:20220912T120500
SEQUENCE:0
URL:
CATEGORIES:Current Students,Faculty,Staff
END:VEVENT
END:VCALENDAR